Workbook

Sheet แดชบอร์ด
Z1: =IF(OR(C5="",C5="ปีนี้"),YEAR(TODAY()),C5-543) -> 2026 | AA1: เดือนนี้ | AB1: ปีนี้
B2: แดชบอร์ดรายรับรายจ่าย | Z2: =IF(OR(F5="",F5="เดือนนี้"),MONTH(TODAY()),MATCH(F5,สรุปรายเดือน!$A$6:$A$17,0)) -> 9 | AA2: มกราคม | AB2: 2566
B3: กรอกรายการในแผ่น "บันทึกรายการ" แล้วตัวเลขและกราฟในหน้านี้อัปเดตเอง | Z3: =DATE(Z1,Z2,1) -> 46266 | AA3: กุมภาพันธ์ | AB3: 2567
Z4: =DATE(Z1,Z2+1,1) -> 46296 | AA4: มีนาคม | AB4: 2568
B5: ปี พ.ศ. | C5: ปีนี้ | D5: ▼ | E5: เดือน | F5: เดือนนี้ | H5: ▼ | I5: ="คลิกช่องสีครีมเพื่อเลือก · กำลังแสดง: "&Z6&" "&(Z1+543) -> คลิกช่องสีครีมเพื่อเลือก · กำลังแสดง: กันยายน 2569 | Z5: =DATE(Z1,Z2-1,1) -> 46235 | AA5: เมษายน | AB5: 2569
Z6: =INDEX(สรุปรายเดือน!$A$6:$A$17,Z2) -> กันยายน | AA6: พฤษภาคม | AB6: 2570
B7: ="ทั้งปี "&(Z1+543) -> ทั้งปี 2569 | Z7: =IF(AND(Z1=YEAR(TODAY()),Z2=MONTH(TODAY())),DAY(TODAY()),DAY(Z4-1)) -> 28 | AA7: มิถุนายน | AB7: 2571
B8: รายรับทั้งปี (บาท) | E8: รายจ่ายทั้งปี (บาท) | H8: กำไร / ขาดทุน (บาท) | K8: อัตรากำไร (กำไร ÷ รายรับ) | Z8: =SUMIFS(บันทึกรายการ!$D$2:$D$5000,บันทึกรายการ!$A$2:$A$5000,">="&แดชบอร์ด!$Z$3,บันทึกรายการ!$A$2:$A$5000,"<"&แดชบอร์ด!$Z$4) -> 1450 | AA8: กรกฎาคม | AB8: 2572
B9: =สรุปรายเดือน!B18 -> 1450 | E9: =สรุปรายเดือน!C18 -> 450 | H9: =สรุปรายเดือน!D18 -> 1000 | K9: =IF(สรุปรายเดือน!B18=0,"-",สรุปรายเดือน!D18/สรุปรายเดือน!B18) -> 0.68965517 | Z9: =SUMIFS(บันทึกรายการ!$E$2:$E$5000,บันทึกรายการ!$A$2:$A$5000,">="&แดชบอร์ด!$Z$3,บันทึกรายการ!$A$2:$A$5000,"<"&แดชบอร์ด!$Z$4) -> 450 | AA9: สิงหาคม | AB9: 2573
Z10: =SUMIFS(บันทึกรายการ!$D$2:$D$5000,บันทึกรายการ!$A$2:$A$5000,">="&แดชบอร์ด!$Z$5,บันทึกรายการ!$A$2:$A$5000,"<"&แดชบอร์ด!$Z$3)-SUMIFS(บันทึกรายการ!$E$2:$E$5000,บันทึกรายการ!$A$2:$A$5000,">="&แดชบอร์ด!$Z$5,บันทึกรายการ!$A$2:$A$5000,"<"&แดชบอร์ด!$Z$3) -> 0 | AA10: กันยายน | AB10: 2574
B11: ="เดือน"&Z6&" "&(Z1+543) -> เดือนกันยายน 2569 | AA11: ตุลาคม | AB11: 2575
B12: รายรับเดือนนี้ (บาท) | E12: รายจ่ายเดือนนี้ (บาท) | H12: กำไร / ขาดทุนเดือนนี้ (บาท) | K12: กำไรเทียบเดือนก่อน | AA12: พฤศจิกายน | AB12: 2576
B13: =Z8 -> 1450 | E13: =Z9 -> 450 | H13: =Z8-Z9 -> 1000 | K13: =IF(Z10=0,"-",((Z8-Z9)-Z10)/ABS(Z10)) -> - | AA13: ธันวาคม | AB13: 2577
AB14: 2578
B15: ตัวเลขน่ารู้ | AB15: 2579
B16: จ่ายเฉลี่ยต่อวัน (เดือนนี้) | E16: เดือนที่กำไรดีที่สุด | H16: หมวดที่จ่ายมากที่สุด (ทั้งปี) | K16: คงเหลือสะสมทั้งหมด (บาท) | AB16: 2580
B17: =IF(Z7=0,0,Z9/Z7) -> 16.071429 | E17: =IF(MAX(สรุปรายเดือน!D6:D17)<=0,"-",INDEX(สรุปรายเดือน!A6:A17,MATCH(MAX(สรุปรายเดือน!D6:D17),สรุปรายเดือน!D6:D17,0))) -> กันยายน | H17: =IF(MAX(สรุปตามหมวด!$N$20:$N$33)=0,"-",INDEX(สรุปตามหมวด!$A$20:$A$33,MATCH(MAX(สรุปตามหมวด!$N$20:$N$33),สรุปตามหมวด!$N$20:$N$33,0))) -> ปุ๋ย/ยา/วัสดุปลูก | K17: =SUM(บันทึกรายการ!$D$2:$D$5000)-SUM(บันทึกรายการ!$E$2:$E$5000) -> 1000
B19: กราฟ
B40: ="แยกตามหมวด เดือน"&Z6&" "&(Z1+543) -> แยกตามหมวด เดือนกันยายน 2569
B41: รายรับตามหมวด | D41: บาท | E41: % ของรายรับ | G41: รายจ่ายตามหมวด | I41: ใช้ไป | J41: งบ/เดือน | K41: เหลืองบ | L41: % ของงบ | M41: สถานะ
B42: =IF(หมวด!A2="","",หมวด!A2) -> ขายผลผลิต | D42: =IF(B42="","",SUMIFS(บันทึกรายการ!$D$2:$D$5000,บันทึกรายการ!$C$2:$C$5000,B42,บันทึกรายการ!$A$2:$A$5000,">="&แดชบอร์ด!$Z$3,บันทึกรายการ!$A$2:$A$5000,"<"&แดชบอร์ด!$Z$4)) -> 200 | E42: =IF(OR(B42="",$Z$8=0),"",D42/$Z$8) -> 0.13793103 | G42: =IF(หมวด!B2="","",หมวด!B2) -> ปุ๋ย/ยา/วัสดุปลูก | I42: =IF(G42="","",SUMIFS(บันทึกรายการ!$E$2:$E$5000,บันทึกรายการ!$C$2:$C$5000,G42,บันทึกรายการ!$A$2:$A$5000,">="&แดชบอร์ด!$Z$3,บันทึกรายการ!$A$2:$A$5000,"<"&แดชบอร์ด!$Z$4)) -> 450 | J42: =IF(OR(G42="",หมวด!C2=""),"",หมวด!C2) | K42: =IF(J42="","",J42-I42) | L42: =IF(OR(J42="",J42=0),"",I42/J42) | M42: =IF(L42="","",IF(L42>1,"เกินงบ",IF(L42>=0.8,"ใกล้เต็ม","ปกติ")))
B43: =IF(หมวด!A3="","",หมวด!A3) -> ขายหน้าร้าน | D43: =IF(B43="","",SUMIFS(บันทึกรายการ!$D$2:$D$5000,บันทึกรายการ!$C$2:$C$5000,B43,บันทึกรายการ!$A$2:$A$5000,">="&แดชบอร์ด!$Z$3,บันทึกรายการ!$A$2:$A$5000,"<"&แดชบอร์ด!$Z$4)) -> 0 | E43: =IF(OR(B43="",$Z$8=0),"",D43/$Z$8) -> 0 | G43: =IF(หมวด!B3="","",หมวด!B3) -> ซื้อต้นไม้/พันธุ์ | I43: =IF(G43="","",SUMIFS(บันทึกรายการ!$E$2:$E$5000,บันทึกรายการ!$C$2:$C$5000,G43,บันทึกรายการ!$A$2:$A$5000,">="&แดชบอร์ด!$Z$3,บันทึกรายการ!$A$2:$A$5000,"<"&แดชบอร์ด!$Z$4)) -> 0 | J43: =IF(OR(G43="",หมวด!C3=""),"",หมวด!C3) | K43: =IF(J43="","",J43-I43) | L43: =IF(OR(J43="",J43=0),"",I43/J43) | M43: =IF(L43="","",IF(L43>1,"เกินงบ",IF(L43>=0.8,"ใกล้เต็ม","ปกติ")))
B44: =IF(หมวด!A4="","",หมวด!A4) -> Shopee | D44: =IF(B44="","",SUMIFS(บันทึกรายการ!$D$2:$D$5000,บันทึกรายการ!$C$2:$C$5000,B44,บันทึกรายการ!$A$2:$A$5000,">="&แดชบอร์ด!$Z$3,บันทึกรายการ!$A$2:$A$5000,"<"&แดชบอร์ด!$Z$4)) -> 1250 | E44: =IF(OR(B44="",$Z$8=0),"",D44/$Z$8) -> 0.86206897 | G44: =IF(หมวด!B4="","",หมวด!B4) -> ค่าแรง | I44: =IF(G44="","",SUMIFS(บันทึกรายการ!$E$2:$E$5000,บันทึกรายการ!$C$2:$C$5000,G44,บันทึกรายการ!$A$2:$A$5000,">="&แดชบอร์ด!$Z$3,บันทึกรายการ!$A$2:$A$5000,"<"&แดชบอร์ด!$Z$4)) -> 0 | J44: =IF(OR(G44="",หมวด!C4=""),"",หมวด!C4) -> 3000 | K44: =IF(J44="","",J44-I44) -> 3000 | L44: =IF(OR(J44="",J44=0),"",I44/J44) -> 0 | M44: =IF(L44="","",IF(L44>1,"เกินงบ",IF(L44>=0.8,"ใกล้เต็ม","ปกติ"))) -> ปกติ
B45: =IF(หมวด!A5="","",หมวด!A5) -> Lazada | D45: =IF(B45="","",SUMIFS(บันทึกรายการ!$D$2:$D$5000,บันทึกรายการ!$C$2:$C$5000,B45,บันทึกรายการ!$A$2:$A$5000,">="&แดชบอร์ด!$Z$3,บันทึกรายการ!$A$2:$A$5000,"<"&แดชบอร์ด!$Z$4)) -> 0 | E45: =IF(OR(B45="",$Z$8=0),"",D45/$Z$8) -> 0 | G45: =IF(หมวด!B5="","",หมวด!B5) -> ค่าส่ง/แพ็กของ | I45: =IF(G45="","",SUMIFS(บันทึกรายการ!$E$2:$E$5000,บันทึกรายการ!$C$2:$C$5000,G45,บันทึกรายการ!$A$2:$A$5000,">="&แดชบอร์ด!$Z$3,บันทึกรายการ!$A$2:$A$5000,"<"&แดชบอร์ด!$Z$4)) -> 0 | J45: =IF(OR(G45="",หมวด!C5=""),"",หมวด!C5) | K45: =IF(J45="","",J45-I45) | L45: =IF(OR(J45="",J45=0),"",I45/J45) | M45: =IF(L45="","",IF(L45>1,"เกินงบ",IF(L45>=0.8,"ใกล้เต็ม","ปกติ")))
B46: =IF(หมวด!A6="","",หมวด!A6) -> TikTok Shop | D46: =IF(B46="","",SUMIFS(บันทึกรายการ!$D$2:$D$5000,บันทึกรายการ!$C$2:$C$5000,B46,บันทึกรายการ!$A$2:$A$5000,">="&แดชบอร์ด!$Z$3,บันทึกรายการ!$A$2:$A$5000,"<"&แดชบอร์ด!$Z$4)) -> 0 | E46: =IF(OR(B46="",$Z$8=0),"",D46/$Z$8) -> 0 | G46: =IF(หมวด!B6="","",หมวด!B6) -> เดินทาง/น้ำมัน | I46: =IF(G46="","",SUMIFS(บันทึกรายการ!$E$2:$E$5000,บันทึกรายการ!$C$2:$C$5000,G46,บันทึกรายการ!$A$2:$A$5000,">="&แดชบอร์ด!$Z$3,บันทึกรายการ!$A$2:$A$5000,"<"&แดชบอร์ด!$Z$4)) -> 0 | J46: =IF(OR(G46="",หมวด!C6=""),"",หมวด!C6) | K46: =IF(J46="","",J46-I46) | L46: =IF(OR(J46="",J46=0),"",I46/J46) | M46: =IF(L46="","",IF(L46>1,"เกินงบ",IF(L46>=0.8,"ใกล้เต็ม","ปกติ")))
B47: =IF(หมวด!A7="","",หมวด!A7) -> Facebook | D47: =IF(B47="","",SUMIFS(บันทึกรายการ!$D$2:$D$5000,บันทึกรายการ!$C$2:$C$5000,B47,บันทึกรายการ!$A$2:$A$5000,">="&แดชบอร์ด!$Z$3,บันทึกรายการ!$A$2:$A$5000,"<"&แดชบอร์ด!$Z$4)) -> 0 | E47: =IF(OR(B47="",$Z$8=0),"",D47/$Z$8) -> 0 | G47: =IF(หมวด!B7="","",หมวด!B7) -> น้ำ/ไฟ/เน็ต | I47: =IF(G47="","",SUMIFS(บันทึกรายการ!$E$2:$E$5000,บันทึกรายการ!$C$2:$C$5000,G47,บันทึกรายการ!$A$2:$A$5000,">="&แดชบอร์ด!$Z$3,บันทึกรายการ!$A$2:$A$5000,"<"&แดชบอร์ด!$Z$4)) -> 0 | J47: =IF(OR(G47="",หมวด!C7=""),"",หมวด!C7) | K47: =IF(J47="","",J47-I47) | L47: =IF(OR(J47="",J47=0),"",I47/J47) | M47: =IF(L47="","",IF(L47>1,"เกินงบ",IF(L47>=0.8,"ใกล้เต็ม","ปกติ")))
B48: =IF(หมวด!A8="","",หมวด!A8) -> LINE | D48: =IF(B48="","",SUMIFS(บันทึกรายการ!$D$2:$D$5000,บันทึกรายการ!$C$2:$C$5000,B48,บันทึกรายการ!$A$2:$A$5000,">="&แดชบอร์ด!$Z$3,บันทึกรายการ!$A$2:$A$5000,"<"&แดชบอร์ด!$Z$4)) -> 0 | E48: =IF(OR(B48="",$Z$8=0),"",D48/$Z$8) -> 0 | G48: =IF(หมวด!B8="","",หมวด!B8) -> ค่าเช่า | I48: =IF(G48="","",SUMIFS(บันทึกรายการ!$E$2:$E$5000,บันทึกรายการ!$C$2:$C$5000,G48,บันทึกรายการ!$A$2:$A$5000,">="&แดชบอร์ด!$Z$3,บันทึกรายการ!$A$2:$A$5000,"<"&แดชบอร์ด!$Z$4)) -> 0 | J48: =IF(OR(G48="",หมวด!C8=""),"",หมวด!C8) | K48: =IF(J48="","",J48-I48) | L48: =IF(OR(J48="",J48=0),"",I48/J48) | M48: =IF(L48="","",IF(L48>1,"เกินงบ",IF(L48>=0.8,"ใกล้เต็ม","ปกติ")))
B49: =IF(หมวด!A9="","",หมวด!A9) -> KASETIDEA Market | D49: =IF(B49="","",SUMIFS(บันทึกรายการ!$D$2:$D$5000,บันทึกรายการ!$C$2:$C$5000,B49,บันทึกรายการ!$A$2:$A$5000,">="&แดชบอร์ด!$Z$3,บันทึกรายการ!$A$2:$A$5000,"<"&แดชบอร์ด!$Z$4)) -> 0 | E49: =IF(OR(B49="",$Z$8=0),"",D49/$Z$8) -> 0 | G49: =IF(หมวด!B9="","",หมวด!B9) -> ผ่อน/หนี้ | I49: =IF(G49="","",SUMIFS(บันทึกรายการ!$E$2:$E$5000,บันทึกรายการ!$C$2:$C$5000,G49,บันทึกรายการ!$A$2:$A$5000,">="&แดชบอร์ด!$Z$3,บันทึกรายการ!$A$2:$A$5000,"<"&แดชบอร์ด!$Z$4)) -> 0 | J49: =IF(OR(G49="",หมวด!C9=""),"",หมวด!C9) | K49: =IF(J49="","",J49-I49) | L49: =IF(OR(J49="",J49=0),"",I49/J49) | M49: =IF(L49="","",IF(L49>1,"เกินงบ",IF(L49>=0.8,"ใกล้เต็ม","ปกติ")))
B50: =IF(หมวด!A10="","",หมวด!A10) -> รายรับอื่นๆ | D50: =IF(B50="","",SUMIFS(บันทึกรายการ!$D$2:$D$5000,บันทึกรายการ!$C$2:$C$5000,B50,บันทึกรายการ!$A$2:$A$5000,">="&แดชบอร์ด!$Z$3,บันทึกรายการ!$A$2:$A$5000,"<"&แดชบอร์ด!$Z$4)) -> 0 | E50: =IF(OR(B50="",$Z$8=0),"",D50/$Z$8) -> 0 | G50: =IF(หมวด!B10="","",หมวด!B10) -> โฆษณา | I50: =IF(G50="","",SUMIFS(บันทึกรายการ!$E$2:$E$5000,บันทึกรายการ!$C$2:$C$5000,G50,บันทึกรายการ!$A$2:$A$5000,">="&แดชบอร์ด!$Z$3,บันทึกรายการ!$A$2:$A$5000,"<"&แดชบอร์ด!$Z$4)) -> 0 | J50: =IF(OR(G50="",หมวด!C10=""),"",หมวด!C10) | K50: =IF(J50="","",J50-I50) | L50: =IF(OR(J50="",J50=0),"",I50/J50) | M50: =IF(L50="","",IF(L50>1,"เกินงบ",IF(L50>=0.8,"ใกล้เต็ม","ปกติ")))
B51: =IF(หมวด!A11="","",หมวด!A11) | D51: =IF(B51="","",SUMIFS(บันทึกรายการ!$D$2:$D$5000,บันทึกรายการ!$C$2:$C$5000,B51,บันทึกรายการ!$A$2:$A$5000,">="&แดชบอร์ด!$Z$3,บันทึกรายการ!$A$2:$A$5000,"<"&แดชบอร์ด!$Z$4)) | E51: =IF(OR(B51="",$Z$8=0),"",D51/$Z$8) | G51: =IF(หมวด!B11="","",หมวด!B11) -> อาหาร/ของใช้ | I51: =IF(G51="","",SUMIFS(บันทึกรายการ!$E$2:$E$5000,บันทึกรายการ!$C$2:$C$5000,G51,บันทึกรายการ!$A$2:$A$5000,">="&แดชบอร์ด!$Z$3,บันทึกรายการ!$A$2:$A$5000,"<"&แดชบอร์ด!$Z$4)) -> 0 | J51: =IF(OR(G51="",หมวด!C11=""),"",หมวด!C11) | K51: =IF(J51="","",J51-I51) | L51: =IF(OR(J51="",J51=0),"",I51/J51) | M51: =IF(L51="","",IF(L51>1,"เกินงบ",IF(L51>=0.8,"ใกล้เต็ม","ปกติ")))
B52: =IF(หมวด!A12="","",หมวด!A12) | D52: =IF(B52="","",SUMIFS(บันทึกรายการ!$D$2:$D$5000,บันทึกรายการ!$C$2:$C$5000,B52,บันทึกรายการ!$A$2:$A$5000,">="&แดชบอร์ด!$Z$3,บันทึกรายการ!$A$2:$A$5000,"<"&แดชบอร์ด!$Z$4)) | E52: =IF(OR(B52="",$Z$8=0),"",D52/$Z$8) | G52: =IF(หมวด!B12="","",หมวด!B12) -> อื่นๆ | I52: =IF(G52="","",SUMIFS(บันทึกรายการ!$E$2:$E$5000,บันทึกรายการ!$C$2:$C$5000,G52,บันทึกรายการ!$A$2:$A$5000,">="&แดชบอร์ด!$Z$3,บันทึกรายการ!$A$2:$A$5000,"<"&แดชบอร์ด!$Z$4)) -> 0 | J52: =IF(OR(G52="",หมวด!C12=""),"",หมวด!C12) | K52: =IF(J52="","",J52-I52) | L52: =IF(OR(J52="",J52=0),"",I52/J52) | M52: =IF(L52="","",IF(L52>1,"เกินงบ",IF(L52>=0.8,"ใกล้เต็ม","ปกติ")))
G53: =IF(หมวด!B13="","",หมวด!B13) | I53: =IF(G53="","",SUMIFS(บันทึกรายการ!$E$2:$E$5000,บันทึกรายการ!$C$2:$C$5000,G53,บันทึกรายการ!$A$2:$A$5000,">="&แดชบอร์ด!$Z$3,บันทึกรายการ!$A$2:$A$5000,"<"&แดชบอร์ด!$Z$4)) | J53: =IF(OR(G53="",หมวด!C13=""),"",หมวด!C13) | K53: =IF(J53="","",J53-I53) | L53: =IF(OR(J53="",J53=0),"",I53/J53) | M53: =IF(L53="","",IF(L53>1,"เกินงบ",IF(L53>=0.8,"ใกล้เต็ม","ปกติ")))
G54: =IF(หมวด!B14="","",หมวด!B14) | I54: =IF(G54="","",SUMIFS(บันทึกรายการ!$E$2:$E$5000,บันทึกรายการ!$C$2:$C$5000,G54,บันทึกรายการ!$A$2:$A$5000,">="&แดชบอร์ด!$Z$3,บันทึกรายการ!$A$2:$A$5000,"<"&แดชบอร์ด!$Z$4)) | J54: =IF(OR(G54="",หมวด!C14=""),"",หมวด!C14) | K54: =IF(J54="","",J54-I54) | L54: =IF(OR(J54="",J54=0),"",I54/J54) | M54: =IF(L54="","",IF(L54>1,"เกินงบ",IF(L54>=0.8,"ใกล้เต็ม","ปกติ")))
G55: =IF(หมวด!B15="","",หมวด!B15) | I55: =IF(G55="","",SUMIFS(บันทึกรายการ!$E$2:$E$5000,บันทึกรายการ!$C$2:$C$5000,G55,บันทึกรายการ!$A$2:$A$5000,">="&แดชบอร์ด!$Z$3,บันทึกรายการ!$A$2:$A$5000,"<"&แดชบอร์ด!$Z$4)) | J55: =IF(OR(G55="",หมวด!C15=""),"",หมวด!C15) | K55: =IF(J55="","",J55-I55) | L55: =IF(OR(J55="",J55=0),"",I55/J55) | M55: =IF(L55="","",IF(L55>1,"เกินงบ",IF(L55>=0.8,"ใกล้เต็ม","ปกติ")))
G56: ใส่งบต่อเดือนได้ในแผ่น "หมวด" คอลัมน์ C
B58: ขี้เกียจเปิดไฟล์? จดผ่าน LINE ฟรี — แอด @kasetidea แล้วพิมพ์ "ขาย ผักบุ้ง 200" บอทจด แยกหมวด และสรุปให้
B59: คลิกที่นี่เพื่อแอด LINE @kasetidea >
B61: ตารางฟรีจาก KASETIDEA · https://kasetidea.com/tools/income-expense/

Sheet บันทึกรายการ
A1: วันที่ | B1: รายการ | C1: หมวด | D1: รายรับ (บาท) | E1: รายจ่าย (บาท) | F1: ช่องทางเงิน | G1: หมายเหตุ | H1: คงเหลือสะสม (บาท)
A2: 46266 | B2: ขาย ผักบุ้ง 20 กำ (ตัวอย่าง ลบได้) | C2: ขายผลผลิต | D2: 200 | F2: เงินสด | H2: =IF(AND(D2="",E2=""),"",SUM($D$2:D2)-SUM($E$2:E2)) -> 200
A3: 46267 | B3: ปุ๋ยคอก 2 กระสอบ (ตัวอย่าง ลบได้) | C3: ปุ๋ย/ยา/วัสดุปลูก | E3: 450 | F3: โอน/พร้อมเพย์ | H3: =IF(AND(D3="",E3=""),"",SUM($D$2:D3)-SUM($E$2:E3)) -> -250
A4: 46268 | B4: ออเดอร์ Shopee (ตัวอย่าง ลบได้) | C4: Shopee | D4: 1250 | F4: แพลตฟอร์ม (Shopee/Lazada/TikTok) | H4: =IF(AND(D4="",E4=""),"",SUM($D$2:D4)-SUM($E$2:E4)) -> 1000
H5: =IF(AND(D5="",E5=""),"",SUM($D$2:D5)-SUM($E$2:E5))
H6: =IF(AND(D6="",E6=""),"",SUM($D$2:D6)-SUM($E$2:E6))
H7: =IF(AND(D7="",E7=""),"",SUM($D$2:D7)-SUM($E$2:E7))
H8: =IF(AND(D8="",E8=""),"",SUM($D$2:D8)-SUM($E$2:E8))
H9: =IF(AND(D9="",E9=""),"",SUM($D$2:D9)-SUM($E$2:E9))
H10: =IF(AND(D10="",E10=""),"",SUM($D$2:D10)-SUM($E$2:E10))
H11: =IF(AND(D11="",E11=""),"",SUM($D$2:D11)-SUM($E$2:E11))
H12: =IF(AND(D12="",E12=""),"",SUM($D$2:D12)-SUM($E$2:E12))
H13: =IF(AND(D13="",E13=""),"",SUM($D$2:D13)-SUM($E$2:E13))
H14: =IF(AND(D14="",E14=""),"",SUM($D$2:D14)-SUM($E$2:E14))
H15: =IF(AND(D15="",E15=""),"",SUM($D$2:D15)-SUM($E$2:E15))
H16: =IF(AND(D16="",E16=""),"",SUM($D$2:D16)-SUM($E$2:E16))
... H1501: =IF(AND(D1501="",E1501=""),"",SUM($D$2:D1501)-SUM($E$2:E1501))

Sheet สรุปรายเดือน
A1: สรุปรายรับรายจ่ายรายเดือน
A2: ปี พ.ศ. | B2: =แดชบอร์ด!$Z$1+543 -> 2569 | C2: ← เปลี่ยนปีได้ที่แผ่น "แดชบอร์ด"
A3: ค.ศ. | B3: =B2-543 -> 2026
A5: เดือน | B5: รายรับ | C5: รายจ่าย | D5: กำไร / ขาดทุน | E5: สะสมทั้งปี | F5: จำนวนรายการ
A6: มกราคม | B6: =SUMIFS(บันทึกรายการ!$D$2:$D$5000,บันทึกรายการ!$A$2:$A$5000,">="&DATE($B$3,1,1),บันทึกรายการ!$A$2:$A$5000,"<"&DATE($B$3,2,1)) -> 0 | C6: =SUMIFS(บันทึกรายการ!$E$2:$E$5000,บันทึกรายการ!$A$2:$A$5000,">="&DATE($B$3,1,1),บันทึกรายการ!$A$2:$A$5000,"<"&DATE($B$3,2,1)) -> 0 | D6: =B6-C6 -> 0 | E6: =IF(DATE($B$3,1,1)>TODAY(),"",SUM($D$6:D6)) -> 0 | F6: =COUNTIFS(บันทึกรายการ!$A$2:$A$5000,">="&DATE($B$3,1,1),บันทึกรายการ!$A$2:$A$5000,"<"&DATE($B$3,2,1)) -> 0
A7: กุมภาพันธ์ | B7: =SUMIFS(บันทึกรายการ!$D$2:$D$5000,บันทึกรายการ!$A$2:$A$5000,">="&DATE($B$3,2,1),บันทึกรายการ!$A$2:$A$5000,"<"&DATE($B$3,3,1)) -> 0 | C7: =SUMIFS(บันทึกรายการ!$E$2:$E$5000,บันทึกรายการ!$A$2:$A$5000,">="&DATE($B$3,2,1),บันทึกรายการ!$A$2:$A$5000,"<"&DATE($B$3,3,1)) -> 0 | D7: =B7-C7 -> 0 | E7: =IF(DATE($B$3,2,1)>TODAY(),"",SUM($D$6:D7)) -> 0 | F7: =COUNTIFS(บันทึกรายการ!$A$2:$A$5000,">="&DATE($B$3,2,1),บันทึกรายการ!$A$2:$A$5000,"<"&DATE($B$3,3,1)) -> 0
A8: มีนาคม | B8: =SUMIFS(บันทึกรายการ!$D$2:$D$5000,บันทึกรายการ!$A$2:$A$5000,">="&DATE($B$3,3,1),บันทึกรายการ!$A$2:$A$5000,"<"&DATE($B$3,4,1)) -> 0 | C8: =SUMIFS(บันทึกรายการ!$E$2:$E$5000,บันทึกรายการ!$A$2:$A$5000,">="&DATE($B$3,3,1),บันทึกรายการ!$A$2:$A$5000,"<"&DATE($B$3,4,1)) -> 0 | D8: =B8-C8 -> 0 | E8: =IF(DATE($B$3,3,1)>TODAY(),"",SUM($D$6:D8)) -> 0 | F8: =COUNTIFS(บันทึกรายการ!$A$2:$A$5000,">="&DATE($B$3,3,1),บันทึกรายการ!$A$2:$A$5000,"<"&DATE($B$3,4,1)) -> 0
A9: เมษายน | B9: =SUMIFS(บันทึกรายการ!$D$2:$D$5000,บันทึกรายการ!$A$2:$A$5000,">="&DATE($B$3,4,1),บันทึกรายการ!$A$2:$A$5000,"<"&DATE($B$3,5,1)) -> 0 | C9: =SUMIFS(บันทึกรายการ!$E$2:$E$5000,บันทึกรายการ!$A$2:$A$5000,">="&DATE($B$3,4,1),บันทึกรายการ!$A$2:$A$5000,"<"&DATE($B$3,5,1)) -> 0 | D9: =B9-C9 -> 0 | E9: =IF(DATE($B$3,4,1)>TODAY(),"",SUM($D$6:D9)) -> 0 | F9: =COUNTIFS(บันทึกรายการ!$A$2:$A$5000,">="&DATE($B$3,4,1),บันทึกรายการ!$A$2:$A$5000,"<"&DATE($B$3,5,1)) -> 0
A10: พฤษภาคม | B10: =SUMIFS(บันทึกรายการ!$D$2:$D$5000,บันทึกรายการ!$A$2:$A$5000,">="&DATE($B$3,5,1),บันทึกรายการ!$A$2:$A$5000,"<"&DATE($B$3,6,1)) -> 0 | C10: =SUMIFS(บันทึกรายการ!$E$2:$E$5000,บันทึกรายการ!$A$2:$A$5000,">="&DATE($B$3,5,1),บันทึกรายการ!$A$2:$A$5000,"<"&DATE($B$3,6,1)) -> 0 | D10: =B10-C10 -> 0 | E10: =IF(DATE($B$3,5,1)>TODAY(),"",SUM($D$6:D10)) -> 0 | F10: =COUNTIFS(บันทึกรายการ!$A$2:$A$5000,">="&DATE($B$3,5,1),บันทึกรายการ!$A$2:$A$5000,"<"&DATE($B$3,6,1)) -> 0
A11: มิถุนายน | B11: =SUMIFS(บันทึกรายการ!$D$2:$D$5000,บันทึกรายการ!$A$2:$A$5000,">="&DATE($B$3,6,1),บันทึกรายการ!$A$2:$A$5000,"<"&DATE($B$3,7,1)) -> 0 | C11: =SUMIFS(บันทึกรายการ!$E$2:$E$5000,บันทึกรายการ!$A$2:$A$5000,">="&DATE($B$3,6,1),บันทึกรายการ!$A$2:$A$5000,"<"&DATE($B$3,7,1)) -> 0 | D11: =B11-C11 -> 0 | E11: =IF(DATE($B$3,6,1)>TODAY(),"",SUM($D$6:D11)) -> 0 | F11: =COUNTIFS(บันทึกรายการ!$A$2:$A$5000,">="&DATE($B$3,6,1),บันทึกรายการ!$A$2:$A$5000,"<"&DATE($B$3,7,1)) -> 0
A12: กรกฎาคม | B12: =SUMIFS(บันทึกรายการ!$D$2:$D$5000,บันทึกรายการ!$A$2:$A$5000,">="&DATE($B$3,7,1),บันทึกรายการ!$A$2:$A$5000,"<"&DATE($B$3,8,1)) -> 0 | C12: =SUMIFS(บันทึกรายการ!$E$2:$E$5000,บันทึกรายการ!$A$2:$A$5000,">="&DATE($B$3,7,1),บันทึกรายการ!$A$2:$A$5000,"<"&DATE($B$3,8,1)) -> 0 | D12: =B12-C12 -> 0 | E12: =IF(DATE($B$3,7,1)>TODAY(),"",SUM($D$6:D12)) -> 0 | F12: =COUNTIFS(บันทึกรายการ!$A$2:$A$5000,">="&DATE($B$3,7,1),บันทึกรายการ!$A$2:$A$5000,"<"&DATE($B$3,8,1)) -> 0
A13: สิงหาคม | B13: =SUMIFS(บันทึกรายการ!$D$2:$D$5000,บันทึกรายการ!$A$2:$A$5000,">="&DATE($B$3,8,1),บันทึกรายการ!$A$2:$A$5000,"<"&DATE($B$3,9,1)) -> 0 | C13: =SUMIFS(บันทึกรายการ!$E$2:$E$5000,บันทึกรายการ!$A$2:$A$5000,">="&DATE($B$3,8,1),บันทึกรายการ!$A$2:$A$5000,"<"&DATE($B$3,9,1)) -> 0 | D13: =B13-C13 -> 0 | E13: =IF(DATE($B$3,8,1)>TODAY(),"",SUM($D$6:D13)) -> 0 | F13: =COUNTIFS(บันทึกรายการ!$A$2:$A$5000,">="&DATE($B$3,8,1),บันทึกรายการ!$A$2:$A$5000,"<"&DATE($B$3,9,1)) -> 0
A14: กันยายน | B14: =SUMIFS(บันทึกรายการ!$D$2:$D$5000,บันทึกรายการ!$A$2:$A$5000,">="&DATE($B$3,9,1),บันทึกรายการ!$A$2:$A$5000,"<"&DATE($B$3,10,1)) -> 1450 | C14: =SUMIFS(บันทึกรายการ!$E$2:$E$5000,บันทึกรายการ!$A$2:$A$5000,">="&DATE($B$3,9,1),บันทึกรายการ!$A$2:$A$5000,"<"&DATE($B$3,10,1)) -> 450 | D14: =B14-C14 -> 1000 | E14: =IF(DATE($B$3,9,1)>TODAY(),"",SUM($D$6:D14)) -> 1000 | F14: =COUNTIFS(บันทึกรายการ!$A$2:$A$5000,">="&DATE($B$3,9,1),บันทึกรายการ!$A$2:$A$5000,"<"&DATE($B$3,10,1)) -> 3
A15: ตุลาคม | B15: =SUMIFS(บันทึกรายการ!$D$2:$D$5000,บันทึกรายการ!$A$2:$A$5000,">="&DATE($B$3,10,1),บันทึกรายการ!$A$2:$A$5000,"<"&DATE($B$3,11,1)) -> 0 | C15: =SUMIFS(บันทึกรายการ!$E$2:$E$5000,บันทึกรายการ!$A$2:$A$5000,">="&DATE($B$3,10,1),บันทึกรายการ!$A$2:$A$5000,"<"&DATE($B$3,11,1)) -> 0 | D15: =B15-C15 -> 0 | E15: =IF(DATE($B$3,10,1)>TODAY(),"",SUM($D$6:D15)) | F15: =COUNTIFS(บันทึกรายการ!$A$2:$A$5000,">="&DATE($B$3,10,1),บันทึกรายการ!$A$2:$A$5000,"<"&DATE($B$3,11,1)) -> 0
A16: พฤศจิกายน | B16: =SUMIFS(บันทึกรายการ!$D$2:$D$5000,บันทึกรายการ!$A$2:$A$5000,">="&DATE($B$3,11,1),บันทึกรายการ!$A$2:$A$5000,"<"&DATE($B$3,12,1)) -> 0 | C16: =SUMIFS(บันทึกรายการ!$E$2:$E$5000,บันทึกรายการ!$A$2:$A$5000,">="&DATE($B$3,11,1),บันทึกรายการ!$A$2:$A$5000,"<"&DATE($B$3,12,1)) -> 0 | D16: =B16-C16 -> 0 | E16: =IF(DATE($B$3,11,1)>TODAY(),"",SUM($D$6:D16)) | F16: =COUNTIFS(บันทึกรายการ!$A$2:$A$5000,">="&DATE($B$3,11,1),บันทึกรายการ!$A$2:$A$5000,"<"&DATE($B$3,12,1)) -> 0
A17: ธันวาคม | B17: =SUMIFS(บันทึกรายการ!$D$2:$D$5000,บันทึกรายการ!$A$2:$A$5000,">="&DATE($B$3,12,1),บันทึกรายการ!$A$2:$A$5000,"<"&DATE($B$3,13,1)) -> 0 | C17: =SUMIFS(บันทึกรายการ!$E$2:$E$5000,บันทึกรายการ!$A$2:$A$5000,">="&DATE($B$3,12,1),บันทึกรายการ!$A$2:$A$5000,"<"&DATE($B$3,13,1)) -> 0 | D17: =B17-C17 -> 0 | E17: =IF(DATE($B$3,12,1)>TODAY(),"",SUM($D$6:D17)) | F17: =COUNTIFS(บันทึกรายการ!$A$2:$A$5000,">="&DATE($B$3,12,1),บันทึกรายการ!$A$2:$A$5000,"<"&DATE($B$3,13,1)) -> 0
A18: รวมทั้งปี | B18: =SUM(B6:B17) -> 1450 | C18: =SUM(C6:C17) -> 450 | D18: =SUM(D6:D17) -> 1000 | F18: =SUM(F6:F17) -> 3
A19: เฉลี่ยต่อเดือน | B19: =B18/12 -> 120.83333 | C19: =C18/12 -> 37.5 | D19: =D18/12 -> 83.333333

Sheet สรุปตามหมวด
A1: สรุปตามหมวด รายเดือน
A2: ="ปี พ.ศ. "&สรุปรายเดือน!B2 -> ปี พ.ศ. 2569
A4: รายรับ | B4: มกราคม | C4: กุมภาพันธ์ | D4: มีนาคม | E4: เมษายน | F4: พฤษภาคม | G4: มิถุนายน | H4: กรกฎาคม | I4: สิงหาคม | J4: กันยายน | K4: ตุลาคม | L4: พฤศจิกายน | M4: ธันวาคม | N4: รวม
A5: =IF(หมวด!A2="","",หมวด!A2) -> ขายผลผลิต | B5: =IF($A5="",0,SUMIFS(บันทึกรายการ!$D$2:$D$5000,บันทึกรายการ!$C$2:$C$5000,$A5,บันทึกรายการ!$A$2:$A$5000,">="&DATE(สรุปรายเดือน!$B$3,1,1),บันทึกรายการ!$A$2:$A$5000,"<"&DATE(สรุปรายเดือน!$B$3,2,1))) -> 0 | C5: =IF($A5="",0,SUMIFS(บันทึกรายการ!$D$2:$D$5000,บันทึกรายการ!$C$2:$C$5000,$A5,บันทึกรายการ!$A$2:$A$5000,">="&DATE(สรุปรายเดือน!$B$3,2,1),บันทึกรายการ!$A$2:$A$5000,"<"&DATE(สรุปรายเดือน!$B$3,3,1))) -> 0 | D5: =IF($A5="",0,SUMIFS(บันทึกรายการ!$D$2:$D$5000,บันทึกรายการ!$C$2:$C$5000,$A5,บันทึกรายการ!$A$2:$A$5000,">="&DATE(สรุปรายเดือน!$B$3,3,1),บันทึกรายการ!$A$2:$A$5000,"<"&DATE(สรุปรายเดือน!$B$3,4,1))) -> 0 | E5: =IF($A5="",0,SUMIFS(บันทึกรายการ!$D$2:$D$5000,บันทึกรายการ!$C$2:$C$5000,$A5,บันทึกรายการ!$A$2:$A$5000,">="&DATE(สรุปรายเดือน!$B$3,4,1),บันทึกรายการ!$A$2:$A$5000,"<"&DATE(สรุปรายเดือน!$B$3,5,1))) -> 0 | F5: =IF($A5="",0,SUMIFS(บันทึกรายการ!$D$2:$D$5000,บันทึกรายการ!$C$2:$C$5000,$A5,บันทึกรายการ!$A$2:$A$5000,">="&DATE(สรุปรายเดือน!$B$3,5,1),บันทึกรายการ!$A$2:$A$5000,"<"&DATE(สรุปรายเดือน!$B$3,6,1))) -> 0 | G5: =IF($A5="",0,SUMIFS(บันทึกรายการ!$D$2:$D$5000,บันทึกรายการ!$C$2:$C$5000,$A5,บันทึกรายการ!$A$2:$A$5000,">="&DATE(สรุปรายเดือน!$B$3,6,1),บันทึกรายการ!$A$2:$A$5000,"<"&DATE(สรุปรายเดือน!$B$3,7,1))) -> 0 | H5: =IF($A5="",0,SUMIFS(บันทึกรายการ!$D$2:$D$5000,บันทึกรายการ!$C$2:$C$5000,$A5,บันทึกรายการ!$A$2:$A$5000,">="&DATE(สรุปรายเดือน!$B$3,7,1),บันทึกรายการ!$A$2:$A$5000,"<"&DATE(สรุปรายเดือน!$B$3,8,1))) -> 0 | I5: =IF($A5="",0,SUMIFS(บันทึกรายการ!$D$2:$D$5000,บันทึกรายการ!$C$2:$C$5000,$A5,บันทึกรายการ!$A$2:$A$5000,">="&DATE(สรุปรายเดือน!$B$3,8,1),บันทึกรายการ!$A$2:$A$5000,"<"&DATE(สรุปรายเดือน!$B$3,9,1))) -> 0 | J5: =IF($A5="",0,SUMIFS(บันทึกรายการ!$D$2:$D$5000,บันทึกรายการ!$C$2:$C$5000,$A5,บันทึกรายการ!$A$2:$A$5000,">="&DATE(สรุปรายเดือน!$B$3,9,1),บันทึกรายการ!$A$2:$A$5000,"<"&DATE(สรุปรายเดือน!$B$3,10,1))) -> 200 | K5: =IF($A5="",0,SUMIFS(บันทึกรายการ!$D$2:$D$5000,บันทึกรายการ!$C$2:$C$5000,$A5,บันทึกรายการ!$A$2:$A$5000,">="&DATE(สรุปรายเดือน!$B$3,10,1),บันทึกรายการ!$A$2:$A$5000,"<"&DATE(สรุปรายเดือน!$B$3,11,1))) -> 0 | L5: =IF($A5="",0,SUMIFS(บันทึกรายการ!$D$2:$D$5000,บันทึกรายการ!$C$2:$C$5000,$A5,บันทึกรายการ!$A$2:$A$5000,">="&DATE(สรุปรายเดือน!$B$3,11,1),บันทึกรายการ!$A$2:$A$5000,"<"&DATE(สรุปรายเดือน!$B$3,12,1))) -> 0 | M5: =IF($A5="",0,SUMIFS(บันทึกรายการ!$D$2:$D$5000,บันทึกรายการ!$C$2:$C$5000,$A5,บันทึกรายการ!$A$2:$A$5000,">="&DATE(สรุปรายเดือน!$B$3,12,1),บันทึกรายการ!$A$2:$A$5000,"<"&DATE(สรุปรายเดือน!$B$3,13,1))) -> 0 | N5: =SUM(B5:M5) -> 200
A6: =IF(หมวด!A3="","",หมวด!A3) -> ขายหน้าร้าน | B6: =IF($A6="",0,SUMIFS(บันทึกรายการ!$D$2:$D$5000,บันทึกรายการ!$C$2:$C$5000,$A6,บันทึกรายการ!$A$2:$A$5000,">="&DATE(สรุปรายเดือน!$B$3,1,1),บันทึกรายการ!$A$2:$A$5000,"<"&DATE(สรุปรายเดือน!$B$3,2,1))) -> 0 | C6: =IF($A6="",0,SUMIFS(บันทึกรายการ!$D$2:$D$5000,บันทึกรายการ!$C$2:$C$5000,$A6,บันทึกรายการ!$A$2:$A$5000,">="&DATE(สรุปรายเดือน!$B$3,2,1),บันทึกรายการ!$A$2:$A$5000,"<"&DATE(สรุปรายเดือน!$B$3,3,1))) -> 0 | D6: =IF($A6="",0,SUMIFS(บันทึกรายการ!$D$2:$D$5000,บันทึกรายการ!$C$2:$C$5000,$A6,บันทึกรายการ!$A$2:$A$5000,">="&DATE(สรุปรายเดือน!$B$3,3,1),บันทึกรายการ!$A$2:$A$5000,"<"&DATE(สรุปรายเดือน!$B$3,4,1))) -> 0 | E6: =IF($A6="",0,SUMIFS(บันทึกรายการ!$D$2:$D$5000,บันทึกรายการ!$C$2:$C$5000,$A6,บันทึกรายการ!$A$2:$A$5000,">="&DATE(สรุปรายเดือน!$B$3,4,1),บันทึกรายการ!$A$2:$A$5000,"<"&DATE(สรุปรายเดือน!$B$3,5,1))) -> 0 | F6: =IF($A6="",0,SUMIFS(บันทึกรายการ!$D$2:$D$5000,บันทึกรายการ!$C$2:$C$5000,$A6,บันทึกรายการ!$A$2:$A$5000,">="&DATE(สรุปรายเดือน!$B$3,5,1),บันทึกรายการ!$A$2:$A$5000,"<"&DATE(สรุปรายเดือน!$B$3,6,1))) -> 0 | G6: =IF($A6="",0,SUMIFS(บันทึกรายการ!$D$2:$D$5000,บันทึกรายการ!$C$2:$C$5000,$A6,บันทึกรายการ!$A$2:$A$5000,">="&DATE(สรุปรายเดือน!$B$3,6,1),บันทึกรายการ!$A$2:$A$5000,"<"&DATE(สรุปรายเดือน!$B$3,7,1))) -> 0 | H6: =IF($A6="",0,SUMIFS(บันทึกรายการ!$D$2:$D$5000,บันทึกรายการ!$C$2:$C$5000,$A6,บันทึกรายการ!$A$2:$A$5000,">="&DATE(สรุปรายเดือน!$B$3,7,1),บันทึกรายการ!$A$2:$A$5000,"<"&DATE(สรุปรายเดือน!$B$3,8,1))) -> 0 | I6: =IF($A6="",0,SUMIFS(บันทึกรายการ!$D$2:$D$5000,บันทึกรายการ!$C$2:$C$5000,$A6,บันทึกรายการ!$A$2:$A$5000,">="&DATE(สรุปรายเดือน!$B$3,8,1),บันทึกรายการ!$A$2:$A$5000,"<"&DATE(สรุปรายเดือน!$B$3,9,1))) -> 0 | J6: =IF($A6="",0,SUMIFS(บันทึกรายการ!$D$2:$D$5000,บันทึกรายการ!$C$2:$C$5000,$A6,บันทึกรายการ!$A$2:$A$5000,">="&DATE(สรุปรายเดือน!$B$3,9,1),บันทึกรายการ!$A$2:$A$5000,"<"&DATE(สรุปรายเดือน!$B$3,10,1))) -> 0 | K6: =IF($A6="",0,SUMIFS(บันทึกรายการ!$D$2:$D$5000,บันทึกรายการ!$C$2:$C$5000,$A6,บันทึกรายการ!$A$2:$A$5000,">="&DATE(สรุปรายเดือน!$B$3,10,1),บันทึกรายการ!$A$2:$A$5000,"<"&DATE(สรุปรายเดือน!$B$3,11,1))) -> 0 | L6: =IF($A6="",0,SUMIFS(บันทึกรายการ!$D$2:$D$5000,บันทึกรายการ!$C$2:$C$5000,$A6,บันทึกรายการ!$A$2:$A$5000,">="&DATE(สรุปรายเดือน!$B$3,11,1),บันทึกรายการ!$A$2:$A$5000,"<"&DATE(สรุปรายเดือน!$B$3,12,1))) -> 0 | M6: =IF($A6="",0,SUMIFS(บันทึกรายการ!$D$2:$D$5000,บันทึกรายการ!$C$2:$C$5000,$A6,บันทึกรายการ!$A$2:$A$5000,">="&DATE(สรุปรายเดือน!$B$3,12,1),บันทึกรายการ!$A$2:$A$5000,"<"&DATE(สรุปรายเดือน!$B$3,13,1))) -> 0 | N6: =SUM(B6:M6) -> 0
A7: =IF(หมวด!A4="","",หมวด!A4) -> Shopee | B7: =IF($A7="",0,SUMIFS(บันทึกรายการ!$D$2:$D$5000,บันทึกรายการ!$C$2:$C$5000,$A7,บันทึกรายการ!$A$2:$A$5000,">="&DATE(สรุปรายเดือน!$B$3,1,1),บันทึกรายการ!$A$2:$A$5000,"<"&DATE(สรุปรายเดือน!$B$3,2,1))) -> 0 | C7: =IF($A7="",0,SUMIFS(บันทึกรายการ!$D$2:$D$5000,บันทึกรายการ!$C$2:$C$5000,$A7,บันทึกรายการ!$A$2:$A$5000,">="&DATE(สรุปรายเดือน!$B$3,2,1),บันทึกรายการ!$A$2:$A$5000,"<"&DATE(สรุปรายเดือน!$B$3,3,1))) -> 0 | D7: =IF($A7="",0,SUMIFS(บันทึกรายการ!$D$2:$D$5000,บันทึกรายการ!$C$2:$C$5000,$A7,บันทึกรายการ!$A$2:$A$5000,">="&DATE(สรุปรายเดือน!$B$3,3,1),บันทึกรายการ!$A$2:$A$5000,"<"&DATE(สรุปรายเดือน!$B$3,4,1))) -> 0 | E7: =IF($A7="",0,SUMIFS(บันทึกรายการ!$D$2:$D$5000,บันทึกรายการ!$C$2:$C$5000,$A7,บันทึกรายการ!$A$2:$A$5000,">="&DATE(สรุปรายเดือน!$B$3,4,1),บันทึกรายการ!$A$2:$A$5000,"<"&DATE(สรุปรายเดือน!$B$3,5,1))) -> 0 | F7: =IF($A7="",0,SUMIFS(บันทึกรายการ!$D$2:$D$5000,บันทึกรายการ!$C$2:$C$5000,$A7,บันทึกรายการ!$A$2:$A$5000,">="&DATE(สรุปรายเดือน!$B$3,5,1),บันทึกรายการ!$A$2:$A$5000,"<"&DATE(สรุปรายเดือน!$B$3,6,1))) -> 0 | G7: =IF($A7="",0,SUMIFS(บันทึกรายการ!$D$2:$D$5000,บันทึกรายการ!$C$2:$C$5000,$A7,บันทึกรายการ!$A$2:$A$5000,">="&DATE(สรุปรายเดือน!$B$3,6,1),บันทึกรายการ!$A$2:$A$5000,"<"&DATE(สรุปรายเดือน!$B$3,7,1))) -> 0 | H7: =IF($A7="",0,SUMIFS(บันทึกรายการ!$D$2:$D$5000,บันทึกรายการ!$C$2:$C$5000,$A7,บันทึกรายการ!$A$2:$A$5000,">="&DATE(สรุปรายเดือน!$B$3,7,1),บันทึกรายการ!$A$2:$A$5000,"<"&DATE(สรุปรายเดือน!$B$3,8,1))) -> 0 | I7: =IF($A7="",0,SUMIFS(บันทึกรายการ!$D$2:$D$5000,บันทึกรายการ!$C$2:$C$5000,$A7,บันทึกรายการ!$A$2:$A$5000,">="&DATE(สรุปรายเดือน!$B$3,8,1),บันทึกรายการ!$A$2:$A$5000,"<"&DATE(สรุปรายเดือน!$B$3,9,1))) -> 0 | J7: =IF($A7="",0,SUMIFS(บันทึกรายการ!$D$2:$D$5000,บันทึกรายการ!$C$2:$C$5000,$A7,บันทึกรายการ!$A$2:$A$5000,">="&DATE(สรุปรายเดือน!$B$3,9,1),บันทึกรายการ!$A$2:$A$5000,"<"&DATE(สรุปรายเดือน!$B$3,10,1))) -> 1250 | K7: =IF($A7="",0,SUMIFS(บันทึกรายการ!$D$2:$D$5000,บันทึกรายการ!$C$2:$C$5000,$A7,บันทึกรายการ!$A$2:$A$5000,">="&DATE(สรุปรายเดือน!$B$3,10,1),บันทึกรายการ!$A$2:$A$5000,"<"&DATE(สรุปรายเดือน!$B$3,11,1))) -> 0 | L7: =IF($A7="",0,SUMIFS(บันทึกรายการ!$D$2:$D$5000,บันทึกรายการ!$C$2:$C$5000,$A7,บันทึกรายการ!$A$2:$A$5000,">="&DATE(สรุปรายเดือน!$B$3,11,1),บันทึกรายการ!$A$2:$A$5000,"<"&DATE(สรุปรายเดือน!$B$3,12,1))) -> 0 | M7: =IF($A7="",0,SUMIFS(บันทึกรายการ!$D$2:$D$5000,บันทึกรายการ!$C$2:$C$5000,$A7,บันทึกรายการ!$A$2:$A$5000,">="&DATE(สรุปรายเดือน!$B$3,12,1),บันทึกรายการ!$A$2:$A$5000,"<"&DATE(สรุปรายเดือน!$B$3,13,1))) -> 0 | N7: =SUM(B7:M7) -> 1250
A8: =IF(หมวด!A5="","",หมวด!A5) -> Lazada | B8: =IF($A8="",0,SUMIFS(บันทึกรายการ!$D$2:$D$5000,บันทึกรายการ!$C$2:$C$5000,$A8,บันทึกรายการ!$A$2:$A$5000,">="&DATE(สรุปรายเดือน!$B$3,1,1),บันทึกรายการ!$A$2:$A$5000,"<"&DATE(สรุปรายเดือน!$B$3,2,1))) -> 0 | C8: =IF($A8="",0,SUMIFS(บันทึกรายการ!$D$2:$D$5000,บันทึกรายการ!$C$2:$C$5000,$A8,บันทึกรายการ!$A$2:$A$5000,">="&DATE(สรุปรายเดือน!$B$3,2,1),บันทึกรายการ!$A$2:$A$5000,"<"&DATE(สรุปรายเดือน!$B$3,3,1))) -> 0 | D8: =IF($A8="",0,SUMIFS(บันทึกรายการ!$D$2:$D$5000,บันทึกรายการ!$C$2:$C$5000,$A8,บันทึกรายการ!$A$2:$A$5000,">="&DATE(สรุปรายเดือน!$B$3,3,1),บันทึกรายการ!$A$2:$A$5000,"<"&DATE(สรุปรายเดือน!$B$3,4,1))) -> 0 | E8: =IF($A8="",0,SUMIFS(บันทึกรายการ!$D$2:$D$5000,บันทึกรายการ!$C$2:$C$5000,$A8,บันทึกรายการ!$A$2:$A$5000,">="&DATE(สรุปรายเดือน!$B$3,4,1),บันทึกรายการ!$A$2:$A$5000,"<"&DATE(สรุปรายเดือน!$B$3,5,1))) -> 0 | F8: =IF($A8="",0,SUMIFS(บันทึกรายการ!$D$2:$D$5000,บันทึกรายการ!$C$2:$C$5000,$A8,บันทึกรายการ!$A$2:$A$5000,">="&DATE(สรุปรายเดือน!$B$3,5,1),บันทึกรายการ!$A$2:$A$5000,"<"&DATE(สรุปรายเดือน!$B$3,6,1))) -> 0 | G8: =IF($A8="",0,SUMIFS(บันทึกรายการ!$D$2:$D$5000,บันทึกรายการ!$C$2:$C$5000,$A8,บันทึกรายการ!$A$2:$A$5000,">="&DATE(สรุปรายเดือน!$B$3,6,1),บันทึกรายการ!$A$2:$A$5000,"<"&DATE(สรุปรายเดือน!$B$3,7,1))) -> 0 | H8: =IF($A8="",0,SUMIFS(บันทึกรายการ!$D$2:$D$5000,บันทึกรายการ!$C$2:$C$5000,$A8,บันทึกรายการ!$A$2:$A$5000,">="&DATE(สรุปรายเดือน!$B$3,7,1),บันทึกรายการ!$A$2:$A$5000,"<"&DATE(สรุปรายเดือน!$B$3,8,1))) -> 0 | I8: =IF($A8="",0,SUMIFS(บันทึกรายการ!$D$2:$D$5000,บันทึกรายการ!$C$2:$C$5000,$A8,บันทึกรายการ!$A$2:$A$5000,">="&DATE(สรุปรายเดือน!$B$3,8,1),บันทึกรายการ!$A$2:$A$5000,"<"&DATE(สรุปรายเดือน!$B$3,9,1))) -> 0 | J8: =IF($A8="",0,SUMIFS(บันทึกรายการ!$D$2:$D$5000,บันทึกรายการ!$C$2:$C$5000,$A8,บันทึกรายการ!$A$2:$A$5000,">="&DATE(สรุปรายเดือน!$B$3,9,1),บันทึกรายการ!$A$2:$A$5000,"<"&DATE(สรุปรายเดือน!$B$3,10,1))) -> 0 | K8: =IF($A8="",0,SUMIFS(บันทึกรายการ!$D$2:$D$5000,บันทึกรายการ!$C$2:$C$5000,$A8,บันทึกรายการ!$A$2:$A$5000,">="&DATE(สรุปรายเดือน!$B$3,10,1),บันทึกรายการ!$A$2:$A$5000,"<"&DATE(สรุปรายเดือน!$B$3,11,1))) -> 0 | L8: =IF($A8="",0,SUMIFS(บันทึกรายการ!$D$2:$D$5000,บันทึกรายการ!$C$2:$C$5000,$A8,บันทึกรายการ!$A$2:$A$5000,">="&DATE(สรุปรายเดือน!$B$3,11,1),บันทึกรายการ!$A$2:$A$5000,"<"&DATE(สรุปรายเดือน!$B$3,12,1))) -> 0 | M8: =IF($A8="",0,SUMIFS(บันทึกรายการ!$D$2:$D$5000,บันทึกรายการ!$C$2:$C$5000,$A8,บันทึกรายการ!$A$2:$A$5000,">="&DATE(สรุปรายเดือน!$B$3,12,1),บันทึกรายการ!$A$2:$A$5000,"<"&DATE(สรุปรายเดือน!$B$3,13,1))) -> 0 | N8: =SUM(B8:M8) -> 0
A9: =IF(หมวด!A6="","",หมวด!A6) -> TikTok Shop | B9: =IF($A9="",0,SUMIFS(บันทึกรายการ!$D$2:$D$5000,บันทึกรายการ!$C$2:$C$5000,$A9,บันทึกรายการ!$A$2:$A$5000,">="&DATE(สรุปรายเดือน!$B$3,1,1),บันทึกรายการ!$A$2:$A$5000,"<"&DATE(สรุปรายเดือน!$B$3,2,1))) -> 0 | C9: =IF($A9="",0,SUMIFS(บันทึกรายการ!$D$2:$D$5000,บันทึกรายการ!$C$2:$C$5000,$A9,บันทึกรายการ!$A$2:$A$5000,">="&DATE(สรุปรายเดือน!$B$3,2,1),บันทึกรายการ!$A$2:$A$5000,"<"&DATE(สรุปรายเดือน!$B$3,3,1))) -> 0 | D9: =IF($A9="",0,SUMIFS(บันทึกรายการ!$D$2:$D$5000,บันทึกรายการ!$C$2:$C$5000,$A9,บันทึกรายการ!$A$2:$A$5000,">="&DATE(สรุปรายเดือน!$B$3,3,1),บันทึกรายการ!$A$2:$A$5000,"<"&DATE(สรุปรายเดือน!$B$3,4,1))) -> 0 | E9: =IF($A9="",0,SUMIFS(บันทึกรายการ!$D$2:$D$5000,บันทึกรายการ!$C$2:$C$5000,$A9,บันทึกรายการ!$A$2:$A$5000,">="&DATE(สรุปรายเดือน!$B$3,4,1),บันทึกรายการ!$A$2:$A$5000,"<"&DATE(สรุปรายเดือน!$B$3,5,1))) -> 0 | F9: =IF($A9="",0,SUMIFS(บันทึกรายการ!$D$2:$D$5000,บันทึกรายการ!$C$2:$C$5000,$A9,บันทึกรายการ!$A$2:$A$5000,">="&DATE(สรุปรายเดือน!$B$3,5,1),บันทึกรายการ!$A$2:$A$5000,"<"&DATE(สรุปรายเดือน!$B$3,6,1))) -> 0 | G9: =IF($A9="",0,SUMIFS(บันทึกรายการ!$D$2:$D$5000,บันทึกรายการ!$C$2:$C$5000,$A9,บันทึกรายการ!$A$2:$A$5000,">="&DATE(สรุปรายเดือน!$B$3,6,1),บันทึกรายการ!$A$2:$A$5000,"<"&DATE(สรุปรายเดือน!$B$3,7,1))) -> 0 | H9: =IF($A9="",0,SUMIFS(บันทึกรายการ!$D$2:$D$5000,บันทึกรายการ!$C$2:$C$5000,$A9,บันทึกรายการ!$A$2:$A$5000,">="&DATE(สรุปรายเดือน!$B$3,7,1),บันทึกรายการ!$A$2:$A$5000,"<"&DATE(สรุปรายเดือน!$B$3,8,1))) -> 0 | I9: =IF($A9="",0,SUMIFS(บันทึกรายการ!$D$2:$D$5000,บันทึกรายการ!$C$2:$C$5000,$A9,บันทึกรายการ!$A$2:$A$5000,">="&DATE(สรุปรายเดือน!$B$3,8,1),บันทึกรายการ!$A$2:$A$5000,"<"&DATE(สรุปรายเดือน!$B$3,9,1))) -> 0 | J9: =IF($A9="",0,SUMIFS(บันทึกรายการ!$D$2:$D$5000,บันทึกรายการ!$C$2:$C$5000,$A9,บันทึกรายการ!$A$2:$A$5000,">="&DATE(สรุปรายเดือน!$B$3,9,1),บันทึกรายการ!$A$2:$A$5000,"<"&DATE(สรุปรายเดือน!$B$3,10,1))) -> 0 | K9: =IF($A9="",0,SUMIFS(บันทึกรายการ!$D$2:$D$5000,บันทึกรายการ!$C$2:$C$5000,$A9,บันทึกรายการ!$A$2:$A$5000,">="&DATE(สรุปรายเดือน!$B$3,10,1),บันทึกรายการ!$A$2:$A$5000,"<"&DATE(สรุปรายเดือน!$B$3,11,1))) -> 0 | L9: =IF($A9="",0,SUMIFS(บันทึกรายการ!$D$2:$D$5000,บันทึกรายการ!$C$2:$C$5000,$A9,บันทึกรายการ!$A$2:$A$5000,">="&DATE(สรุปรายเดือน!$B$3,11,1),บันทึกรายการ!$A$2:$A$5000,"<"&DATE(สรุปรายเดือน!$B$3,12,1))) -> 0 | M9: =IF($A9="",0,SUMIFS(บันทึกรายการ!$D$2:$D$5000,บันทึกรายการ!$C$2:$C$5000,$A9,บันทึกรายการ!$A$2:$A$5000,">="&DATE(สรุปรายเดือน!$B$3,12,1),บันทึกรายการ!$A$2:$A$5000,"<"&DATE(สรุปรายเดือน!$B$3,13,1))) -> 0 | N9: =SUM(B9:M9) -> 0
A10: =IF(หมวด!A7="","",หมวด!A7) -> Facebook | B10: =IF($A10="",0,SUMIFS(บันทึกรายการ!$D$2:$D$5000,บันทึกรายการ!$C$2:$C$5000,$A10,บันทึกรายการ!$A$2:$A$5000,">="&DATE(สรุปรายเดือน!$B$3,1,1),บันทึกรายการ!$A$2:$A$5000,"<"&DATE(สรุปรายเดือน!$B$3,2,1))) -> 0 | C10: =IF($A10="",0,SUMIFS(บันทึกรายการ!$D$2:$D$5000,บันทึกรายการ!$C$2:$C$5000,$A10,บันทึกรายการ!$A$2:$A$5000,">="&DATE(สรุปรายเดือน!$B$3,2,1),บันทึกรายการ!$A$2:$A$5000,"<"&DATE(สรุปรายเดือน!$B$3,3,1))) -> 0 | D10: =IF($A10="",0,SUMIFS(บันทึกรายการ!$D$2:$D$5000,บันทึกรายการ!$C$2:$C$5000,$A10,บันทึกรายการ!$A$2:$A$5000,">="&DATE(สรุปรายเดือน!$B$3,3,1),บันทึกรายการ!$A$2:$A$5000,"<"&DATE(สรุปรายเดือน!$B$3,4,1))) -> 0 | E10: =IF($A10="",0,SUMIFS(บันทึกรายการ!$D$2:$D$5000,บันทึกรายการ!$C$2:$C$5000,$A10,บันทึกรายการ!$A$2:$A$5000,">="&DATE(สรุปรายเดือน!$B$3,4,1),บันทึกรายการ!$A$2:$A$5000,"<"&DATE(สรุปรายเดือน!$B$3,5,1))) -> 0 | F10: =IF($A10="",0,SUMIFS(บันทึกรายการ!$D$2:$D$5000,บันทึกรายการ!$C$2:$C$5000,$A10,บันทึกรายการ!$A$2:$A$5000,">="&DATE(สรุปรายเดือน!$B$3,5,1),บันทึกรายการ!$A$2:$A$5000,"<"&DATE(สรุปรายเดือน!$B$3,6,1))) -> 0 | G10: =IF($A10="",0,SUMIFS(บันทึกรายการ!$D$2:$D$5000,บันทึกรายการ!$C$2:$C$5000,$A10,บันทึกรายการ!$A$2:$A$5000,">="&DATE(สรุปรายเดือน!$B$3,6,1),บันทึกรายการ!$A$2:$A$5000,"<"&DATE(สรุปรายเดือน!$B$3,7,1))) -> 0 | H10: =IF($A10="",0,SUMIFS(บันทึกรายการ!$D$2:$D$5000,บันทึกรายการ!$C$2:$C$5000,$A10,บันทึกรายการ!$A$2:$A$5000,">="&DATE(สรุปรายเดือน!$B$3,7,1),บันทึกรายการ!$A$2:$A$5000,"<"&DATE(สรุปรายเดือน!$B$3,8,1))) -> 0 | I10: =IF($A10="",0,SUMIFS(บันทึกรายการ!$D$2:$D$5000,บันทึกรายการ!$C$2:$C$5000,$A10,บันทึกรายการ!$A$2:$A$5000,">="&DATE(สรุปรายเดือน!$B$3,8,1),บันทึกรายการ!$A$2:$A$5000,"<"&DATE(สรุปรายเดือน!$B$3,9,1))) -> 0 | J10: =IF($A10="",0,SUMIFS(บันทึกรายการ!$D$2:$D$5000,บันทึกรายการ!$C$2:$C$5000,$A10,บันทึกรายการ!$A$2:$A$5000,">="&DATE(สรุปรายเดือน!$B$3,9,1),บันทึกรายการ!$A$2:$A$5000,"<"&DATE(สรุปรายเดือน!$B$3,10,1))) -> 0 | K10: =IF($A10="",0,SUMIFS(บันทึกรายการ!$D$2:$D$5000,บันทึกรายการ!$C$2:$C$5000,$A10,บันทึกรายการ!$A$2:$A$5000,">="&DATE(สรุปรายเดือน!$B$3,10,1),บันทึกรายการ!$A$2:$A$5000,"<"&DATE(สรุปรายเดือน!$B$3,11,1))) -> 0 | L10: =IF($A10="",0,SUMIFS(บันทึกรายการ!$D$2:$D$5000,บันทึกรายการ!$C$2:$C$5000,$A10,บันทึกรายการ!$A$2:$A$5000,">="&DATE(สรุปรายเดือน!$B$3,11,1),บันทึกรายการ!$A$2:$A$5000,"<"&DATE(สรุปรายเดือน!$B$3,12,1))) -> 0 | M10: =IF($A10="",0,SUMIFS(บันทึกรายการ!$D$2:$D$5000,บันทึกรายการ!$C$2:$C$5000,$A10,บันทึกรายการ!$A$2:$A$5000,">="&DATE(สรุปรายเดือน!$B$3,12,1),บันทึกรายการ!$A$2:$A$5000,"<"&DATE(สรุปรายเดือน!$B$3,13,1))) -> 0 | N10: =SUM(B10:M10) -> 0
A11: =IF(หมวด!A8="","",หมวด!A8) -> LINE | B11: =IF($A11="",0,SUMIFS(บันทึกรายการ!$D$2:$D$5000,บันทึกรายการ!$C$2:$C$5000,$A11,บันทึกรายการ!$A$2:$A$5000,">="&DATE(สรุปรายเดือน!$B$3,1,1),บันทึกรายการ!$A$2:$A$5000,"<"&DATE(สรุปรายเดือน!$B$3,2,1))) -> 0 | C11: =IF($A11="",0,SUMIFS(บันทึกรายการ!$D$2:$D$5000,บันทึกรายการ!$C$2:$C$5000,$A11,บันทึกรายการ!$A$2:$A$5000,">="&DATE(สรุปรายเดือน!$B$3,2,1),บันทึกรายการ!$A$2:$A$5000,"<"&DATE(สรุปรายเดือน!$B$3,3,1))) -> 0 | D11: =IF($A11="",0,SUMIFS(บันทึกรายการ!$D$2:$D$5000,บันทึกรายการ!$C$2:$C$5000,$A11,บันทึกรายการ!$A$2:$A$5000,">="&DATE(สรุปรายเดือน!$B$3,3,1),บันทึกรายการ!$A$2:$A$5000,"<"&DATE(สรุปรายเดือน!$B$3,4,1))) -> 0 | E11: =IF($A11="",0,SUMIFS(บันทึกรายการ!$D$2:$D$5000,บันทึกรายการ!$C$2:$C$5000,$A11,บันทึกรายการ!$A$2:$A$5000,">="&DATE(สรุปรายเดือน!$B$3,4,1),บันทึกรายการ!$A$2:$A$5000,"<"&DATE(สรุปรายเดือน!$B$3,5,1))) -> 0 | F11: =IF($A11="",0,SUMIFS(บันทึกรายการ!$D$2:$D$5000,บันทึกรายการ!$C$2:$C$5000,$A11,บันทึกรายการ!$A$2:$A$5000,">="&DATE(สรุปรายเดือน!$B$3,5,1),บันทึกรายการ!$A$2:$A$5000,"<"&DATE(สรุปรายเดือน!$B$3,6,1))) -> 0 | G11: =IF($A11="",0,SUMIFS(บันทึกรายการ!$D$2:$D$5000,บันทึกรายการ!$C$2:$C$5000,$A11,บันทึกรายการ!$A$2:$A$5000,">="&DATE(สรุปรายเดือน!$B$3,6,1),บันทึกรายการ!$A$2:$A$5000,"<"&DATE(สรุปรายเดือน!$B$3,7,1))) -> 0 | H11: =IF($A11="",0,SUMIFS(บันทึกรายการ!$D$2:$D$5000,บันทึกรายการ!$C$2:$C$5000,$A11,บันทึกรายการ!$A$2:$A$5000,">="&DATE(สรุปรายเดือน!$B$3,7,1),บันทึกรายการ!$A$2:$A$5000,"<"&DATE(สรุปรายเดือน!$B$3,8,1))) -> 0 | I11: =IF($A11="",0,SUMIFS(บันทึกรายการ!$D$2:$D$5000,บันทึกรายการ!$C$2:$C$5000,$A11,บันทึกรายการ!$A$2:$A$5000,">="&DATE(สรุปรายเดือน!$B$3,8,1),บันทึกรายการ!$A$2:$A$5000,"<"&DATE(สรุปรายเดือน!$B$3,9,1))) -> 0 | J11: =IF($A11="",0,SUMIFS(บันทึกรายการ!$D$2:$D$5000,บันทึกรายการ!$C$2:$C$5000,$A11,บันทึกรายการ!$A$2:$A$5000,">="&DATE(สรุปรายเดือน!$B$3,9,1),บันทึกรายการ!$A$2:$A$5000,"<"&DATE(สรุปรายเดือน!$B$3,10,1))) -> 0 | K11: =IF($A11="",0,SUMIFS(บันทึกรายการ!$D$2:$D$5000,บันทึกรายการ!$C$2:$C$5000,$A11,บันทึกรายการ!$A$2:$A$5000,">="&DATE(สรุปรายเดือน!$B$3,10,1),บันทึกรายการ!$A$2:$A$5000,"<"&DATE(สรุปรายเดือน!$B$3,11,1))) -> 0 | L11: =IF($A11="",0,SUMIFS(บันทึกรายการ!$D$2:$D$5000,บันทึกรายการ!$C$2:$C$5000,$A11,บันทึกรายการ!$A$2:$A$5000,">="&DATE(สรุปรายเดือน!$B$3,11,1),บันทึกรายการ!$A$2:$A$5000,"<"&DATE(สรุปรายเดือน!$B$3,12,1))) -> 0 | M11: =IF($A11="",0,SUMIFS(บันทึกรายการ!$D$2:$D$5000,บันทึกรายการ!$C$2:$C$5000,$A11,บันทึกรายการ!$A$2:$A$5000,">="&DATE(สรุปรายเดือน!$B$3,12,1),บันทึกรายการ!$A$2:$A$5000,"<"&DATE(สรุปรายเดือน!$B$3,13,1))) -> 0 | N11: =SUM(B11:M11) -> 0
A12: =IF(หมวด!A9="","",หมวด!A9) -> KASETIDEA Market | B12: =IF($A12="",0,SUMIFS(บันทึกรายการ!$D$2:$D$5000,บันทึกรายการ!$C$2:$C$5000,$A12,บันทึกรายการ!$A$2:$A$5000,">="&DATE(สรุปรายเดือน!$B$3,1,1),บันทึกรายการ!$A$2:$A$5000,"<"&DATE(สรุปรายเดือน!$B$3,2,1))) -> 0 | C12: =IF($A12="",0,SUMIFS(บันทึกรายการ!$D$2:$D$5000,บันทึกรายการ!$C$2:$C$5000,$A12,บันทึกรายการ!$A$2:$A$5000,">="&DATE(สรุปรายเดือน!$B$3,2,1),บันทึกรายการ!$A$2:$A$5000,"<"&DATE(สรุปรายเดือน!$B$3,3,1))) -> 0 | D12: =IF($A12="",0,SUMIFS(บันทึกรายการ!$D$2:$D$5000,บันทึกรายการ!$C$2:$C$5000,$A12,บันทึกรายการ!$A$2:$A$5000,">="&DATE(สรุปรายเดือน!$B$3,3,1),บันทึกรายการ!$A$2:$A$5000,"<"&DATE(สรุปรายเดือน!$B$3,4,1))) -> 0 | E12: =IF($A12="",0,SUMIFS(บันทึกรายการ!$D$2:$D$5000,บันทึกรายการ!$C$2:$C$5000,$A12,บันทึกรายการ!$A$2:$A$5000,">="&DATE(สรุปรายเดือน!$B$3,4,1),บันทึกรายการ!$A$2:$A$5000,"<"&DATE(สรุปรายเดือน!$B$3,5,1))) -> 0 | F12: =IF($A12="",0,SUMIFS(บันทึกรายการ!$D$2:$D$5000,บันทึกรายการ!$C$2:$C$5000,$A12,บันทึกรายการ!$A$2:$A$5000,">="&DATE(สรุปรายเดือน!$B$3,5,1),บันทึกรายการ!$A$2:$A$5000,"<"&DATE(สรุปรายเดือน!$B$3,6,1))) -> 0 | G12: =IF($A12="",0,SUMIFS(บันทึกรายการ!$D$2:$D$5000,บันทึกรายการ!$C$2:$C$5000,$A12,บันทึกรายการ!$A$2:$A$5000,">="&DATE(สรุปรายเดือน!$B$3,6,1),บันทึกรายการ!$A$2:$A$5000,"<"&DATE(สรุปรายเดือน!$B$3,7,1))) -> 0 | H12: =IF($A12="",0,SUMIFS(บันทึกรายการ!$D$2:$D$5000,บันทึกรายการ!$C$2:$C$5000,$A12,บันทึกรายการ!$A$2:$A$5000,">="&DATE(สรุปรายเดือน!$B$3,7,1),บันทึกรายการ!$A$2:$A$5000,"<"&DATE(สรุปรายเดือน!$B$3,8,1))) -> 0 | I12: =IF($A12="",0,SUMIFS(บันทึกรายการ!$D$2:$D$5000,บันทึกรายการ!$C$2:$C$5000,$A12,บันทึกรายการ!$A$2:$A$5000,">="&DATE(สรุปรายเดือน!$B$3,8,1),บันทึกรายการ!$A$2:$A$5000,"<"&DATE(สรุปรายเดือน!$B$3,9,1))) -> 0 | J12: =IF($A12="",0,SUMIFS(บันทึกรายการ!$D$2:$D$5000,บันทึกรายการ!$C$2:$C$5000,$A12,บันทึกรายการ!$A$2:$A$5000,">="&DATE(สรุปรายเดือน!$B$3,9,1),บันทึกรายการ!$A$2:$A$5000,"<"&DATE(สรุปรายเดือน!$B$3,10,1))) -> 0 | K12: =IF($A12="",0,SUMIFS(บันทึกรายการ!$D$2:$D$5000,บันทึกรายการ!$C$2:$C$5000,$A12,บันทึกรายการ!$A$2:$A$5000,">="&DATE(สรุปรายเดือน!$B$3,10,1),บันทึกรายการ!$A$2:$A$5000,"<"&DATE(สรุปรายเดือน!$B$3,11,1))) -> 0 | L12: =IF($A12="",0,SUMIFS(บันทึกรายการ!$D$2:$D$5000,บันทึกรายการ!$C$2:$C$5000,$A12,บันทึกรายการ!$A$2:$A$5000,">="&DATE(สรุปรายเดือน!$B$3,11,1),บันทึกรายการ!$A$2:$A$5000,"<"&DATE(สรุปรายเดือน!$B$3,12,1))) -> 0 | M12: =IF($A12="",0,SUMIFS(บันทึกรายการ!$D$2:$D$5000,บันทึกรายการ!$C$2:$C$5000,$A12,บันทึกรายการ!$A$2:$A$5000,">="&DATE(สรุปรายเดือน!$B$3,12,1),บันทึกรายการ!$A$2:$A$5000,"<"&DATE(สรุปรายเดือน!$B$3,13,1))) -> 0 | N12: =SUM(B12:M12) -> 0
A13: =IF(หมวด!A10="","",หมวด!A10) -> รายรับอื่นๆ | B13: =IF($A13="",0,SUMIFS(บันทึกรายการ!$D$2:$D$5000,บันทึกรายการ!$C$2:$C$5000,$A13,บันทึกรายการ!$A$2:$A$5000,">="&DATE(สรุปรายเดือน!$B$3,1,1),บันทึกรายการ!$A$2:$A$5000,"<"&DATE(สรุปรายเดือน!$B$3,2,1))) -> 0 | C13: =IF($A13="",0,SUMIFS(บันทึกรายการ!$D$2:$D$5000,บันทึกรายการ!$C$2:$C$5000,$A13,บันทึกรายการ!$A$2:$A$5000,">="&DATE(สรุปรายเดือน!$B$3,2,1),บันทึกรายการ!$A$2:$A$5000,"<"&DATE(สรุปรายเดือน!$B$3,3,1))) -> 0 | D13: =IF($A13="",0,SUMIFS(บันทึกรายการ!$D$2:$D$5000,บันทึกรายการ!$C$2:$C$5000,$A13,บันทึกรายการ!$A$2:$A$5000,">="&DATE(สรุปรายเดือน!$B$3,3,1),บันทึกรายการ!$A$2:$A$5000,"<"&DATE(สรุปรายเดือน!$B$3,4,1))) -> 0 | E13: =IF($A13="",0,SUMIFS(บันทึกรายการ!$D$2:$D$5000,บันทึกรายการ!$C$2:$C$5000,$A13,บันทึกรายการ!$A$2:$A$5000,">="&DATE(สรุปรายเดือน!$B$3,4,1),บันทึกรายการ!$A$2:$A$5000,"<"&DATE(สรุปรายเดือน!$B$3,5,1))) -> 0 | F13: =IF($A13="",0,SUMIFS(บันทึกรายการ!$D$2:$D$5000,บันทึกรายการ!$C$2:$C$5000,$A13,บันทึกรายการ!$A$2:$A$5000,">="&DATE(สรุปรายเดือน!$B$3,5,1),บันทึกรายการ!$A$2:$A$5000,"<"&DATE(สรุปรายเดือน!$B$3,6,1))) -> 0 | G13: =IF($A13="",0,SUMIFS(บันทึกรายการ!$D$2:$D$5000,บันทึกรายการ!$C$2:$C$5000,$A13,บันทึกรายการ!$A$2:$A$5000,">="&DATE(สรุปรายเดือน!$B$3,6,1),บันทึกรายการ!$A$2:$A$5000,"<"&DATE(สรุปรายเดือน!$B$3,7,1))) -> 0 | H13: =IF($A13="",0,SUMIFS(บันทึกรายการ!$D$2:$D$5000,บันทึกรายการ!$C$2:$C$5000,$A13,บันทึกรายการ!$A$2:$A$5000,">="&DATE(สรุปรายเดือน!$B$3,7,1),บันทึกรายการ!$A$2:$A$5000,"<"&DATE(สรุปรายเดือน!$B$3,8,1))) -> 0 | I13: =IF($A13="",0,SUMIFS(บันทึกรายการ!$D$2:$D$5000,บันทึกรายการ!$C$2:$C$5000,$A13,บันทึกรายการ!$A$2:$A$5000,">="&DATE(สรุปรายเดือน!$B$3,8,1),บันทึกรายการ!$A$2:$A$5000,"<"&DATE(สรุปรายเดือน!$B$3,9,1))) -> 0 | J13: =IF($A13="",0,SUMIFS(บันทึกรายการ!$D$2:$D$5000,บันทึกรายการ!$C$2:$C$5000,$A13,บันทึกรายการ!$A$2:$A$5000,">="&DATE(สรุปรายเดือน!$B$3,9,1),บันทึกรายการ!$A$2:$A$5000,"<"&DATE(สรุปรายเดือน!$B$3,10,1))) -> 0 | K13: =IF($A13="",0,SUMIFS(บันทึกรายการ!$D$2:$D$5000,บันทึกรายการ!$C$2:$C$5000,$A13,บันทึกรายการ!$A$2:$A$5000,">="&DATE(สรุปรายเดือน!$B$3,10,1),บันทึกรายการ!$A$2:$A$5000,"<"&DATE(สรุปรายเดือน!$B$3,11,1))) -> 0 | L13: =IF($A13="",0,SUMIFS(บันทึกรายการ!$D$2:$D$5000,บันทึกรายการ!$C$2:$C$5000,$A13,บันทึกรายการ!$A$2:$A$5000,">="&DATE(สรุปรายเดือน!$B$3,11,1),บันทึกรายการ!$A$2:$A$5000,"<"&DATE(สรุปรายเดือน!$B$3,12,1))) -> 0 | M13: =IF($A13="",0,SUMIFS(บันทึกรายการ!$D$2:$D$5000,บันทึกรายการ!$C$2:$C$5000,$A13,บันทึกรายการ!$A$2:$A$5000,">="&DATE(สรุปรายเดือน!$B$3,12,1),บันทึกรายการ!$A$2:$A$5000,"<"&DATE(สรุปรายเดือน!$B$3,13,1))) -> 0 | N13: =SUM(B13:M13) -> 0
A14: =IF(หมวด!A11="","",หมวด!A11) | B14: =IF($A14="",0,SUMIFS(บันทึกรายการ!$D$2:$D$5000,บันทึกรายการ!$C$2:$C$5000,$A14,บันทึกรายการ!$A$2:$A$5000,">="&DATE(สรุปรายเดือน!$B$3,1,1),บันทึกรายการ!$A$2:$A$5000,"<"&DATE(สรุปรายเดือน!$B$3,2,1))) -> 0 | C14: =IF($A14="",0,SUMIFS(บันทึกรายการ!$D$2:$D$5000,บันทึกรายการ!$C$2:$C$5000,$A14,บันทึกรายการ!$A$2:$A$5000,">="&DATE(สรุปรายเดือน!$B$3,2,1),บันทึกรายการ!$A$2:$A$5000,"<"&DATE(สรุปรายเดือน!$B$3,3,1))) -> 0 | D14: =IF($A14="",0,SUMIFS(บันทึกรายการ!$D$2:$D$5000,บันทึกรายการ!$C$2:$C$5000,$A14,บันทึกรายการ!$A$2:$A$5000,">="&DATE(สรุปรายเดือน!$B$3,3,1),บันทึกรายการ!$A$2:$A$5000,"<"&DATE(สรุปรายเดือน!$B$3,4,1))) -> 0 | E14: =IF($A14="",0,SUMIFS(บันทึกรายการ!$D$2:$D$5000,บันทึกรายการ!$C$2:$C$5000,$A14,บันทึกรายการ!$A$2:$A$5000,">="&DATE(สรุปรายเดือน!$B$3,4,1),บันทึกรายการ!$A$2:$A$5000,"<"&DATE(สรุปรายเดือน!$B$3,5,1))) -> 0 | F14: =IF($A14="",0,SUMIFS(บันทึกรายการ!$D$2:$D$5000,บันทึกรายการ!$C$2:$C$5000,$A14,บันทึกรายการ!$A$2:$A$5000,">="&DATE(สรุปรายเดือน!$B$3,5,1),บันทึกรายการ!$A$2:$A$5000,"<"&DATE(สรุปรายเดือน!$B$3,6,1))) -> 0 | G14: =IF($A14="",0,SUMIFS(บันทึกรายการ!$D$2:$D$5000,บันทึกรายการ!$C$2:$C$5000,$A14,บันทึกรายการ!$A$2:$A$5000,">="&DATE(สรุปรายเดือน!$B$3,6,1),บันทึกรายการ!$A$2:$A$5000,"<"&DATE(สรุปรายเดือน!$B$3,7,1))) -> 0 | H14: =IF($A14="",0,SUMIFS(บันทึกรายการ!$D$2:$D$5000,บันทึกรายการ!$C$2:$C$5000,$A14,บันทึกรายการ!$A$2:$A$5000,">="&DATE(สรุปรายเดือน!$B$3,7,1),บันทึกรายการ!$A$2:$A$5000,"<"&DATE(สรุปรายเดือน!$B$3,8,1))) -> 0 | I14: =IF($A14="",0,SUMIFS(บันทึกรายการ!$D$2:$D$5000,บันทึกรายการ!$C$2:$C$5000,$A14,บันทึกรายการ!$A$2:$A$5000,">="&DATE(สรุปรายเดือน!$B$3,8,1),บันทึกรายการ!$A$2:$A$5000,"<"&DATE(สรุปรายเดือน!$B$3,9,1))) -> 0 | J14: =IF($A14="",0,SUMIFS(บันทึกรายการ!$D$2:$D$5000,บันทึกรายการ!$C$2:$C$5000,$A14,บันทึกรายการ!$A$2:$A$5000,">="&DATE(สรุปรายเดือน!$B$3,9,1),บันทึกรายการ!$A$2:$A$5000,"<"&DATE(สรุปรายเดือน!$B$3,10,1))) -> 0 | K14: =IF($A14="",0,SUMIFS(บันทึกรายการ!$D$2:$D$5000,บันทึกรายการ!$C$2:$C$5000,$A14,บันทึกรายการ!$A$2:$A$5000,">="&DATE(สรุปรายเดือน!$B$3,10,1),บันทึกรายการ!$A$2:$A$5000,"<"&DATE(สรุปรายเดือน!$B$3,11,1))) -> 0 | L14: =IF($A14="",0,SUMIFS(บันทึกรายการ!$D$2:$D$5000,บันทึกรายการ!$C$2:$C$5000,$A14,บันทึกรายการ!$A$2:$A$5000,">="&DATE(สรุปรายเดือน!$B$3,11,1),บันทึกรายการ!$A$2:$A$5000,"<"&DATE(สรุปรายเดือน!$B$3,12,1))) -> 0 | M14: =IF($A14="",0,SUMIFS(บันทึกรายการ!$D$2:$D$5000,บันทึกรายการ!$C$2:$C$5000,$A14,บันทึกรายการ!$A$2:$A$5000,">="&DATE(สรุปรายเดือน!$B$3,12,1),บันทึกรายการ!$A$2:$A$5000,"<"&DATE(สรุปรายเดือน!$B$3,13,1))) -> 0 | N14: =SUM(B14:M14) -> 0
A15: =IF(หมวด!A12="","",หมวด!A12) | B15: =IF($A15="",0,SUMIFS(บันทึกรายการ!$D$2:$D$5000,บันทึกรายการ!$C$2:$C$5000,$A15,บันทึกรายการ!$A$2:$A$5000,">="&DATE(สรุปรายเดือน!$B$3,1,1),บันทึกรายการ!$A$2:$A$5000,"<"&DATE(สรุปรายเดือน!$B$3,2,1))) -> 0 | C15: =IF($A15="",0,SUMIFS(บันทึกรายการ!$D$2:$D$5000,บันทึกรายการ!$C$2:$C$5000,$A15,บันทึกรายการ!$A$2:$A$5000,">="&DATE(สรุปรายเดือน!$B$3,2,1),บันทึกรายการ!$A$2:$A$5000,"<"&DATE(สรุปรายเดือน!$B$3,3,1))) -> 0 | D15: =IF($A15="",0,SUMIFS(บันทึกรายการ!$D$2:$D$5000,บันทึกรายการ!$C$2:$C$5000,$A15,บันทึกรายการ!$A$2:$A$5000,">="&DATE(สรุปรายเดือน!$B$3,3,1),บันทึกรายการ!$A$2:$A$5000,"<"&DATE(สรุปรายเดือน!$B$3,4,1))) -> 0 | E15: =IF($A15="",0,SUMIFS(บันทึกรายการ!$D$2:$D$5000,บันทึกรายการ!$C$2:$C$5000,$A15,บันทึกรายการ!$A$2:$A$5000,">="&DATE(สรุปรายเดือน!$B$3,4,1),บันทึกรายการ!$A$2:$A$5000,"<"&DATE(สรุปรายเดือน!$B$3,5,1))) -> 0 | F15: =IF($A15="",0,SUMIFS(บันทึกรายการ!$D$2:$D$5000,บันทึกรายการ!$C$2:$C$5000,$A15,บันทึกรายการ!$A$2:$A$5000,">="&DATE(สรุปรายเดือน!$B$3,5,1),บันทึกรายการ!$A$2:$A$5000,"<"&DATE(สรุปรายเดือน!$B$3,6,1))) -> 0 | G15: =IF($A15="",0,SUMIFS(บันทึกรายการ!$D$2:$D$5000,บันทึกรายการ!$C$2:$C$5000,$A15,บันทึกรายการ!$A$2:$A$5000,">="&DATE(สรุปรายเดือน!$B$3,6,1),บันทึกรายการ!$A$2:$A$5000,"<"&DATE(สรุปรายเดือน!$B$3,7,1))) -> 0 | H15: =IF($A15="",0,SUMIFS(บันทึกรายการ!$D$2:$D$5000,บันทึกรายการ!$C$2:$C$5000,$A15,บันทึกรายการ!$A$2:$A$5000,">="&DATE(สรุปรายเดือน!$B$3,7,1),บันทึกรายการ!$A$2:$A$5000,"<"&DATE(สรุปรายเดือน!$B$3,8,1))) -> 0 | I15: =IF($A15="",0,SUMIFS(บันทึกรายการ!$D$2:$D$5000,บันทึกรายการ!$C$2:$C$5000,$A15,บันทึกรายการ!$A$2:$A$5000,">="&DATE(สรุปรายเดือน!$B$3,8,1),บันทึกรายการ!$A$2:$A$5000,"<"&DATE(สรุปรายเดือน!$B$3,9,1))) -> 0 | J15: =IF($A15="",0,SUMIFS(บันทึกรายการ!$D$2:$D$5000,บันทึกรายการ!$C$2:$C$5000,$A15,บันทึกรายการ!$A$2:$A$5000,">="&DATE(สรุปรายเดือน!$B$3,9,1),บันทึกรายการ!$A$2:$A$5000,"<"&DATE(สรุปรายเดือน!$B$3,10,1))) -> 0 | K15: =IF($A15="",0,SUMIFS(บันทึกรายการ!$D$2:$D$5000,บันทึกรายการ!$C$2:$C$5000,$A15,บันทึกรายการ!$A$2:$A$5000,">="&DATE(สรุปรายเดือน!$B$3,10,1),บันทึกรายการ!$A$2:$A$5000,"<"&DATE(สรุปรายเดือน!$B$3,11,1))) -> 0 | L15: =IF($A15="",0,SUMIFS(บันทึกรายการ!$D$2:$D$5000,บันทึกรายการ!$C$2:$C$5000,$A15,บันทึกรายการ!$A$2:$A$5000,">="&DATE(สรุปรายเดือน!$B$3,11,1),บันทึกรายการ!$A$2:$A$5000,"<"&DATE(สรุปรายเดือน!$B$3,12,1))) -> 0 | M15: =IF($A15="",0,SUMIFS(บันทึกรายการ!$D$2:$D$5000,บันทึกรายการ!$C$2:$C$5000,$A15,บันทึกรายการ!$A$2:$A$5000,">="&DATE(สรุปรายเดือน!$B$3,12,1),บันทึกรายการ!$A$2:$A$5000,"<"&DATE(สรุปรายเดือน!$B$3,13,1))) -> 0 | N15: =SUM(B15:M15) -> 0
A16: รวม | B16: =SUM(B5:B15) -> 0 | C16: =SUM(C5:C15) -> 0 | D16: =SUM(D5:D15) -> 0 | E16: =SUM(E5:E15) -> 0 | F16: =SUM(F5:F15) -> 0 | G16: =SUM(G5:G15) -> 0 | H16: =SUM(H5:H15) -> 0 | I16: =SUM(I5:I15) -> 0 | ... N16: =SUM(N5:N15) -> 1450
A19: รายจ่าย | B19: มกราคม | C19: กุมภาพันธ์ | D19: มีนาคม | E19: เมษายน | F19: พฤษภาคม | G19: มิถุนายน | H19: กรกฎาคม | I19: สิงหาคม | J19: กันยายน | K19: ตุลาคม | L19: พฤศจิกายน | M19: ธันวาคม | N19: รวม
A20: =IF(หมวด!B2="","",หมวด!B2) -> ปุ๋ย/ยา/วัสดุปลูก | B20: =IF($A20="",0,SUMIFS(บันทึกรายการ!$E$2:$E$5000,บันทึกรายการ!$C$2:$C$5000,$A20,บันทึกรายการ!$A$2:$A$5000,">="&DATE(สรุปรายเดือน!$B$3,1,1),บันทึกรายการ!$A$2:$A$5000,"<"&DATE(สรุปรายเดือน!$B$3,2,1))) -> 0 | C20: =IF($A20="",0,SUMIFS(บันทึกรายการ!$E$2:$E$5000,บันทึกรายการ!$C$2:$C$5000,$A20,บันทึกรายการ!$A$2:$A$5000,">="&DATE(สรุปรายเดือน!$B$3,2,1),บันทึกรายการ!$A$2:$A$5000,"<"&DATE(สรุปรายเดือน!$B$3,3,1))) -> 0 | D20: =IF($A20="",0,SUMIFS(บันทึกรายการ!$E$2:$E$5000,บันทึกรายการ!$C$2:$C$5000,$A20,บันทึกรายการ!$A$2:$A$5000,">="&DATE(สรุปรายเดือน!$B$3,3,1),บันทึกรายการ!$A$2:$A$5000,"<"&DATE(สรุปรายเดือน!$B$3,4,1))) -> 0 | E20: =IF($A20="",0,SUMIFS(บันทึกรายการ!$E$2:$E$5000,บันทึกรายการ!$C$2:$C$5000,$A20,บันทึกรายการ!$A$2:$A$5000,">="&DATE(สรุปรายเดือน!$B$3,4,1),บันทึกรายการ!$A$2:$A$5000,"<"&DATE(สรุปรายเดือน!$B$3,5,1))) -> 0 | F20: =IF($A20="",0,SUMIFS(บันทึกรายการ!$E$2:$E$5000,บันทึกรายการ!$C$2:$C$5000,$A20,บันทึกรายการ!$A$2:$A$5000,">="&DATE(สรุปรายเดือน!$B$3,5,1),บันทึกรายการ!$A$2:$A$5000,"<"&DATE(สรุปรายเดือน!$B$3,6,1))) -> 0 | G20: =IF($A20="",0,SUMIFS(บันทึกรายการ!$E$2:$E$5000,บันทึกรายการ!$C$2:$C$5000,$A20,บันทึกรายการ!$A$2:$A$5000,">="&DATE(สรุปรายเดือน!$B$3,6,1),บันทึกรายการ!$A$2:$A$5000,"<"&DATE(สรุปรายเดือน!$B$3,7,1))) -> 0 | H20: =IF($A20="",0,SUMIFS(บันทึกรายการ!$E$2:$E$5000,บันทึกรายการ!$C$2:$C$5000,$A20,บันทึกรายการ!$A$2:$A$5000,">="&DATE(สรุปรายเดือน!$B$3,7,1),บันทึกรายการ!$A$2:$A$5000,"<"&DATE(สรุปรายเดือน!$B$3,8,1))) -> 0 | I20: =IF($A20="",0,SUMIFS(บันทึกรายการ!$E$2:$E$5000,บันทึกรายการ!$C$2:$C$5000,$A20,บันทึกรายการ!$A$2:$A$5000,">="&DATE(สรุปรายเดือน!$B$3,8,1),บันทึกรายการ!$A$2:$A$5000,"<"&DATE(สรุปรายเดือน!$B$3,9,1))) -> 0 | J20: =IF($A20="",0,SUMIFS(บันทึกรายการ!$E$2:$E$5000,บันทึกรายการ!$C$2:$C$5000,$A20,บันทึกรายการ!$A$2:$A$5000,">="&DATE(สรุปรายเดือน!$B$3,9,1),บันทึกรายการ!$A$2:$A$5000,"<"&DATE(สรุปรายเดือน!$B$3,10,1))) -> 450 | K20: =IF($A20="",0,SUMIFS(บันทึกรายการ!$E$2:$E$5000,บันทึกรายการ!$C$2:$C$5000,$A20,บันทึกรายการ!$A$2:$A$5000,">="&DATE(สรุปรายเดือน!$B$3,10,1),บันทึกรายการ!$A$2:$A$5000,"<"&DATE(สรุปรายเดือน!$B$3,11,1))) -> 0 | L20: =IF($A20="",0,SUMIFS(บันทึกรายการ!$E$2:$E$5000,บันทึกรายการ!$C$2:$C$5000,$A20,บันทึกรายการ!$A$2:$A$5000,">="&DATE(สรุปรายเดือน!$B$3,11,1),บันทึกรายการ!$A$2:$A$5000,"<"&DATE(สรุปรายเดือน!$B$3,12,1))) -> 0 | M20: =IF($A20="",0,SUMIFS(บันทึกรายการ!$E$2:$E$5000,บันทึกรายการ!$C$2:$C$5000,$A20,บันทึกรายการ!$A$2:$A$5000,">="&DATE(สรุปรายเดือน!$B$3,12,1),บันทึกรายการ!$A$2:$A$5000,"<"&DATE(สรุปรายเดือน!$B$3,13,1))) -> 0 | N20: =SUM(B20:M20) -> 450
A21: =IF(หมวด!B3="","",หมวด!B3) -> ซื้อต้นไม้/พันธุ์ | B21: =IF($A21="",0,SUMIFS(บันทึกรายการ!$E$2:$E$5000,บันทึกรายการ!$C$2:$C$5000,$A21,บันทึกรายการ!$A$2:$A$5000,">="&DATE(สรุปรายเดือน!$B$3,1,1),บันทึกรายการ!$A$2:$A$5000,"<"&DATE(สรุปรายเดือน!$B$3,2,1))) -> 0 | C21: =IF($A21="",0,SUMIFS(บันทึกรายการ!$E$2:$E$5000,บันทึกรายการ!$C$2:$C$5000,$A21,บันทึกรายการ!$A$2:$A$5000,">="&DATE(สรุปรายเดือน!$B$3,2,1),บันทึกรายการ!$A$2:$A$5000,"<"&DATE(สรุปรายเดือน!$B$3,3,1))) -> 0 | D21: =IF($A21="",0,SUMIFS(บันทึกรายการ!$E$2:$E$5000,บันทึกรายการ!$C$2:$C$5000,$A21,บันทึกรายการ!$A$2:$A$5000,">="&DATE(สรุปรายเดือน!$B$3,3,1),บันทึกรายการ!$A$2:$A$5000,"<"&DATE(สรุปรายเดือน!$B$3,4,1))) -> 0 | E21: =IF($A21="",0,SUMIFS(บันทึกรายการ!$E$2:$E$5000,บันทึกรายการ!$C$2:$C$5000,$A21,บันทึกรายการ!$A$2:$A$5000,">="&DATE(สรุปรายเดือน!$B$3,4,1),บันทึกรายการ!$A$2:$A$5000,"<"&DATE(สรุปรายเดือน!$B$3,5,1))) -> 0 | F21: =IF($A21="",0,SUMIFS(บันทึกรายการ!$E$2:$E$5000,บันทึกรายการ!$C$2:$C$5000,$A21,บันทึกรายการ!$A$2:$A$5000,">="&DATE(สรุปรายเดือน!$B$3,5,1),บันทึกรายการ!$A$2:$A$5000,"<"&DATE(สรุปรายเดือน!$B$3,6,1))) -> 0 | G21: =IF($A21="",0,SUMIFS(บันทึกรายการ!$E$2:$E$5000,บันทึกรายการ!$C$2:$C$5000,$A21,บันทึกรายการ!$A$2:$A$5000,">="&DATE(สรุปรายเดือน!$B$3,6,1),บันทึกรายการ!$A$2:$A$5000,"<"&DATE(สรุปรายเดือน!$B$3,7,1))) -> 0 | H21: =IF($A21="",0,SUMIFS(บันทึกรายการ!$E$2:$E$5000,บันทึกรายการ!$C$2:$C$5000,$A21,บันทึกรายการ!$A$2:$A$5000,">="&DATE(สรุปรายเดือน!$B$3,7,1),บันทึกรายการ!$A$2:$A$5000,"<"&DATE(สรุปรายเดือน!$B$3,8,1))) -> 0 | I21: =IF($A21="",0,SUMIFS(บันทึกรายการ!$E$2:$E$5000,บันทึกรายการ!$C$2:$C$5000,$A21,บันทึกรายการ!$A$2:$A$5000,">="&DATE(สรุปรายเดือน!$B$3,8,1),บันทึกรายการ!$A$2:$A$5000,"<"&DATE(สรุปรายเดือน!$B$3,9,1))) -> 0 | J21: =IF($A21="",0,SUMIFS(บันทึกรายการ!$E$2:$E$5000,บันทึกรายการ!$C$2:$C$5000,$A21,บันทึกรายการ!$A$2:$A$5000,">="&DATE(สรุปรายเดือน!$B$3,9,1),บันทึกรายการ!$A$2:$A$5000,"<"&DATE(สรุปรายเดือน!$B$3,10,1))) -> 0 | K21: =IF($A21="",0,SUMIFS(บันทึกรายการ!$E$2:$E$5000,บันทึกรายการ!$C$2:$C$5000,$A21,บันทึกรายการ!$A$2:$A$5000,">="&DATE(สรุปรายเดือน!$B$3,10,1),บันทึกรายการ!$A$2:$A$5000,"<"&DATE(สรุปรายเดือน!$B$3,11,1))) -> 0 | L21: =IF($A21="",0,SUMIFS(บันทึกรายการ!$E$2:$E$5000,บันทึกรายการ!$C$2:$C$5000,$A21,บันทึกรายการ!$A$2:$A$5000,">="&DATE(สรุปรายเดือน!$B$3,11,1),บันทึกรายการ!$A$2:$A$5000,"<"&DATE(สรุปรายเดือน!$B$3,12,1))) -> 0 | M21: =IF($A21="",0,SUMIFS(บันทึกรายการ!$E$2:$E$5000,บันทึกรายการ!$C$2:$C$5000,$A21,บันทึกรายการ!$A$2:$A$5000,">="&DATE(สรุปรายเดือน!$B$3,12,1),บันทึกรายการ!$A$2:$A$5000,"<"&DATE(สรุปรายเดือน!$B$3,13,1))) -> 0 | N21: =SUM(B21:M21) -> 0
A22: =IF(หมวด!B4="","",หมวด!B4) -> ค่าแรง | B22: =IF($A22="",0,SUMIFS(บันทึกรายการ!$E$2:$E$5000,บันทึกรายการ!$C$2:$C$5000,$A22,บันทึกรายการ!$A$2:$A$5000,">="&DATE(สรุปรายเดือน!$B$3,1,1),บันทึกรายการ!$A$2:$A$5000,"<"&DATE(สรุปรายเดือน!$B$3,2,1))) -> 0 | C22: =IF($A22="",0,SUMIFS(บันทึกรายการ!$E$2:$E$5000,บันทึกรายการ!$C$2:$C$5000,$A22,บันทึกรายการ!$A$2:$A$5000,">="&DATE(สรุปรายเดือน!$B$3,2,1),บันทึกรายการ!$A$2:$A$5000,"<"&DATE(สรุปรายเดือน!$B$3,3,1))) -> 0 | D22: =IF($A22="",0,SUMIFS(บันทึกรายการ!$E$2:$E$5000,บันทึกรายการ!$C$2:$C$5000,$A22,บันทึกรายการ!$A$2:$A$5000,">="&DATE(สรุปรายเดือน!$B$3,3,1),บันทึกรายการ!$A$2:$A$5000,"<"&DATE(สรุปรายเดือน!$B$3,4,1))) -> 0 | E22: =IF($A22="",0,SUMIFS(บันทึกรายการ!$E$2:$E$5000,บันทึกรายการ!$C$2:$C$5000,$A22,บันทึกรายการ!$A$2:$A$5000,">="&DATE(สรุปรายเดือน!$B$3,4,1),บันทึกรายการ!$A$2:$A$5000,"<"&DATE(สรุปรายเดือน!$B$3,5,1))) -> 0 | F22: =IF($A22="",0,SUMIFS(บันทึกรายการ!$E$2:$E$5000,บันทึกรายการ!$C$2:$C$5000,$A22,บันทึกรายการ!$A$2:$A$5000,">="&DATE(สรุปรายเดือน!$B$3,5,1),บันทึกรายการ!$A$2:$A$5000,"<"&DATE(สรุปรายเดือน!$B$3,6,1))) -> 0 | G22: =IF($A22="",0,SUMIFS(บันทึกรายการ!$E$2:$E$5000,บันทึกรายการ!$C$2:$C$5000,$A22,บันทึกรายการ!$A$2:$A$5000,">="&DATE(สรุปรายเดือน!$B$3,6,1),บันทึกรายการ!$A$2:$A$5000,"<"&DATE(สรุปรายเดือน!$B$3,7,1))) -> 0 | H22: =IF($A22="",0,SUMIFS(บันทึกรายการ!$E$2:$E$5000,บันทึกรายการ!$C$2:$C$5000,$A22,บันทึกรายการ!$A$2:$A$5000,">="&DATE(สรุปรายเดือน!$B$3,7,1),บันทึกรายการ!$A$2:$A$5000,"<"&DATE(สรุปรายเดือน!$B$3,8,1))) -> 0 | I22: =IF($A22="",0,SUMIFS(บันทึกรายการ!$E$2:$E$5000,บันทึกรายการ!$C$2:$C$5000,$A22,บันทึกรายการ!$A$2:$A$5000,">="&DATE(สรุปรายเดือน!$B$3,8,1),บันทึกรายการ!$A$2:$A$5000,"<"&DATE(สรุปรายเดือน!$B$3,9,1))) -> 0 | J22: =IF($A22="",0,SUMIFS(บันทึกรายการ!$E$2:$E$5000,บันทึกรายการ!$C$2:$C$5000,$A22,บันทึกรายการ!$A$2:$A$5000,">="&DATE(สรุปรายเดือน!$B$3,9,1),บันทึกรายการ!$A$2:$A$5000,"<"&DATE(สรุปรายเดือน!$B$3,10,1))) -> 0 | K22: =IF($A22="",0,SUMIFS(บันทึกรายการ!$E$2:$E$5000,บันทึกรายการ!$C$2:$C$5000,$A22,บันทึกรายการ!$A$2:$A$5000,">="&DATE(สรุปรายเดือน!$B$3,10,1),บันทึกรายการ!$A$2:$A$5000,"<"&DATE(สรุปรายเดือน!$B$3,11,1))) -> 0 | L22: =IF($A22="",0,SUMIFS(บันทึกรายการ!$E$2:$E$5000,บันทึกรายการ!$C$2:$C$5000,$A22,บันทึกรายการ!$A$2:$A$5000,">="&DATE(สรุปรายเดือน!$B$3,11,1),บันทึกรายการ!$A$2:$A$5000,"<"&DATE(สรุปรายเดือน!$B$3,12,1))) -> 0 | M22: =IF($A22="",0,SUMIFS(บันทึกรายการ!$E$2:$E$5000,บันทึกรายการ!$C$2:$C$5000,$A22,บันทึกรายการ!$A$2:$A$5000,">="&DATE(สรุปรายเดือน!$B$3,12,1),บันทึกรายการ!$A$2:$A$5000,"<"&DATE(สรุปรายเดือน!$B$3,13,1))) -> 0 | N22: =SUM(B22:M22) -> 0
A23: =IF(หมวด!B5="","",หมวด!B5) -> ค่าส่ง/แพ็กของ | B23: =IF($A23="",0,SUMIFS(บันทึกรายการ!$E$2:$E$5000,บันทึกรายการ!$C$2:$C$5000,$A23,บันทึกรายการ!$A$2:$A$5000,">="&DATE(สรุปรายเดือน!$B$3,1,1),บันทึกรายการ!$A$2:$A$5000,"<"&DATE(สรุปรายเดือน!$B$3,2,1))) -> 0 | C23: =IF($A23="",0,SUMIFS(บันทึกรายการ!$E$2:$E$5000,บันทึกรายการ!$C$2:$C$5000,$A23,บันทึกรายการ!$A$2:$A$5000,">="&DATE(สรุปรายเดือน!$B$3,2,1),บันทึกรายการ!$A$2:$A$5000,"<"&DATE(สรุปรายเดือน!$B$3,3,1))) -> 0 | D23: =IF($A23="",0,SUMIFS(บันทึกรายการ!$E$2:$E$5000,บันทึกรายการ!$C$2:$C$5000,$A23,บันทึกรายการ!$A$2:$A$5000,">="&DATE(สรุปรายเดือน!$B$3,3,1),บันทึกรายการ!$A$2:$A$5000,"<"&DATE(สรุปรายเดือน!$B$3,4,1))) -> 0 | E23: =IF($A23="",0,SUMIFS(บันทึกรายการ!$E$2:$E$5000,บันทึกรายการ!$C$2:$C$5000,$A23,บันทึกรายการ!$A$2:$A$5000,">="&DATE(สรุปรายเดือน!$B$3,4,1),บันทึกรายการ!$A$2:$A$5000,"<"&DATE(สรุปรายเดือน!$B$3,5,1))) -> 0 | F23: =IF($A23="",0,SUMIFS(บันทึกรายการ!$E$2:$E$5000,บันทึกรายการ!$C$2:$C$5000,$A23,บันทึกรายการ!$A$2:$A$5000,">="&DATE(สรุปรายเดือน!$B$3,5,1),บันทึกรายการ!$A$2:$A$5000,"<"&DATE(สรุปรายเดือน!$B$3,6,1))) -> 0 | G23: =IF($A23="",0,SUMIFS(บันทึกรายการ!$E$2:$E$5000,บันทึกรายการ!$C$2:$C$5000,$A23,บันทึกรายการ!$A$2:$A$5000,">="&DATE(สรุปรายเดือน!$B$3,6,1),บันทึกรายการ!$A$2:$A$5000,"<"&DATE(สรุปรายเดือน!$B$3,7,1))) -> 0 | H23: =IF($A23="",0,SUMIFS(บันทึกรายการ!$E$2:$E$5000,บันทึกรายการ!$C$2:$C$5000,$A23,บันทึกรายการ!$A$2:$A$5000,">="&DATE(สรุปรายเดือน!$B$3,7,1),บันทึกรายการ!$A$2:$A$5000,"<"&DATE(สรุปรายเดือน!$B$3,8,1))) -> 0 | I23: =IF($A23="",0,SUMIFS(บันทึกรายการ!$E$2:$E$5000,บันทึกรายการ!$C$2:$C$5000,$A23,บันทึกรายการ!$A$2:$A$5000,">="&DATE(สรุปรายเดือน!$B$3,8,1),บันทึกรายการ!$A$2:$A$5000,"<"&DATE(สรุปรายเดือน!$B$3,9,1))) -> 0 | J23: =IF($A23="",0,SUMIFS(บันทึกรายการ!$E$2:$E$5000,บันทึกรายการ!$C$2:$C$5000,$A23,บันทึกรายการ!$A$2:$A$5000,">="&DATE(สรุปรายเดือน!$B$3,9,1),บันทึกรายการ!$A$2:$A$5000,"<"&DATE(สรุปรายเดือน!$B$3,10,1))) -> 0 | K23: =IF($A23="",0,SUMIFS(บันทึกรายการ!$E$2:$E$5000,บันทึกรายการ!$C$2:$C$5000,$A23,บันทึกรายการ!$A$2:$A$5000,">="&DATE(สรุปรายเดือน!$B$3,10,1),บันทึกรายการ!$A$2:$A$5000,"<"&DATE(สรุปรายเดือน!$B$3,11,1))) -> 0 | L23: =IF($A23="",0,SUMIFS(บันทึกรายการ!$E$2:$E$5000,บันทึกรายการ!$C$2:$C$5000,$A23,บันทึกรายการ!$A$2:$A$5000,">="&DATE(สรุปรายเดือน!$B$3,11,1),บันทึกรายการ!$A$2:$A$5000,"<"&DATE(สรุปรายเดือน!$B$3,12,1))) -> 0 | M23: =IF($A23="",0,SUMIFS(บันทึกรายการ!$E$2:$E$5000,บันทึกรายการ!$C$2:$C$5000,$A23,บันทึกรายการ!$A$2:$A$5000,">="&DATE(สรุปรายเดือน!$B$3,12,1),บันทึกรายการ!$A$2:$A$5000,"<"&DATE(สรุปรายเดือน!$B$3,13,1))) -> 0 | N23: =SUM(B23:M23) -> 0
