Workbook

Sheet ใบเสนอราคา
D2: =ตั้งค่าร้าน!$B$3 -> ร้านตัวอย่างพรรณไม้ | G2: =CHOOSE(_calc!$B$2,CHOOSE(_calc!$B$1,"ใบเสนอราคา","ใบแจ้งหนี้","ใบส่งของ","ใบเสร็จรับเงิน"),CHOOSE(_calc!$B$1,"QUOTATION","INVOICE","DELIVERY NOTE","RECEIPT"),CHOOSE(_calc!$B$1,"ใบเสนอราคา","ใบแจ้งหนี้","ใบส่งของ","ใบเสร็จรับเงิน")) -> ใบเสนอราคา | L2: วิธีใช้เร็ว ๆ (แผงด้านขวานี้ไม่ถูกพิมพ์)
D3: =ตั้งค่าร้าน!$B$4 -> 99/9 หมู่ 9 ต.ตัวอย่าง อ.เมือง | L3: 1. กรอกข้อมูลร้านครั้งแรกที่แผ่น "ตั้งค่าร้าน"
D4: =ตั้งค่าร้าน!$B$5 -> จ.นครปฐม 73000 | G4: =IF(_calc!$B$2=3,CHOOSE(_calc!$B$1,"QUOTATION","INVOICE","DELIVERY NOTE","RECEIPT"),"") | L4: 2. ใส่สินค้าที่แผ่น "สินค้า-บริการ" แล้วเลือกรหัสในช่อง "รหัส"
D5: =IF(ตั้งค่าร้าน!$B$6="","",CHOOSE(_calc!$B$2,"เลขประจำตัวผู้เสียภาษี","Tax ID","เลขประจำตัวผู้เสียภาษี / Tax ID")&" "&ตั้งค่าร้าน!$B$6&IF(ตั้งค่าร้าน!$B$7<>""," ("&ตั้งค่าร้าน!$B$7&")","")) -> เลขประจำตัวผู้เสียภาษี 0-0000-00000-00-0 (สำนักงานใหญ่) | G5: =IF(_calc!$B$2=2,"ORIGINAL",CHOOSE(_calc!$B$2,"ต้นฉบับ","Original","ต้นฉบับ / Original")) -> ต้นฉบับ | L5: 3. ไม่มีรหัส? พิมพ์ชื่อ หน่วย ราคา ทับในแถวได้เลย
D6: =TRIM(IF(ตั้งค่าร้าน!$B$8<>"",CHOOSE(_calc!$B$2,"โทร","Tel","โทร / Tel")&" "&ตั้งค่าร้าน!$B$8,"")&" "&ตั้งค่าร้าน!$B$9) -> โทร 08x-xxx-xxxx LINE: @ร้านตัวอย่าง | L6: 4. ใส่จำนวน · ส่วนลดรายบรรทัดใส่ในช่อง "ส่วนลด" (บาท)
B8: =CHOOSE(_calc!$B$1,CHOOSE(_calc!$B$2,"ลูกค้า","Customer","ลูกค้า / Customer"),CHOOSE(_calc!$B$2,"ลูกค้า","Bill to","ลูกค้า / Bill to"),CHOOSE(_calc!$B$2,"ผู้รับสินค้า","Ship to","ผู้รับสินค้า / Ship to"),CHOOSE(_calc!$B$2,"ได้รับเงินจาก","Received from","ได้รับเงินจาก / Received from")) -> ลูกค้า | G8: =CHOOSE(_calc!$B$2,"เลขที่","No.","เลขที่ / No.") -> เลขที่ | I8: =_calc!$B$8 -> QT2569-0001 | L8: 5. เลือกประเภทเอกสาร ลูกค้า VAT ที่แผงสีเหลืองด้านล่าง
B9: =IF($M$20="","",$M$20) -> บริษัท ตัวอย่างการเกษตร จำกัด | G9: =CHOOSE(_calc!$B$2,"วันที่","Date","วันที่ / Date") -> วันที่ | I9: =IF(_calc!$B$5="","",CHOOSE(_calc!$B$2,DAY(_calc!$B$5)&" "&CHOOSE(MONTH(_calc!$B$5),"ม.ค.","ก.พ.","มี.ค.","เม.ย.","พ.ค.","มิ.ย.","ก.ค.","ส.ค.","ก.ย.","ต.ค.","พ.ย.","ธ.ค.")&" "&(YEAR(_calc!$B$5)+543),DAY(_calc!$B$5)&" "&CHOOSE(MONTH(_calc!$B$5),"Jan","Feb","Mar","Apr","May","Jun","Jul","Aug","Sep","Oct","Nov","Dec")&" "&YEAR(_calc!$B$5),DAY(_calc!$B$5)&" "&CHOOSE(MONTH(_calc!$B$5),"ม.ค.","ก.พ.","มี.ค.","เม.ย.","พ.ค.","มิ.ย.","ก.ค.","ส.ค.","ก.ย.","ต.ค.","พ.ย.","ธ.ค.")&" "&(YEAR(_calc!$B$5)+543))) -> 29 ก.ย. 2569 | L9: 6. ยอดรวม VAT หัก ณ ที่จ่าย และตัวอักษร คำนวณเอง
B10: =IF($M$20="","",IFERROR(VLOOKUP($M$20,ลูกค้า!$A$3:$G$502,2,FALSE())&"","")) -> 123 ถ.เพชรเกษม ต.สนามจันทร์ | G10: =CHOOSE(_calc!$B$1,CHOOSE(_calc!$B$2,"ยืนราคาถึง","Valid until","ยืนราคาถึง / Valid until"),CHOOSE(_calc!$B$2,"ครบกำหนดชำระ","Due date","ครบกำหนดชำระ / Due date"),CHOOSE(_calc!$B$2,"อ้างอิง","Reference","อ้างอิง / Reference"),CHOOSE(_calc!$B$2,"ชำระโดย","Paid by","ชำระโดย / Paid by")) -> ยืนราคาถึง | I10: =CHOOSE(_calc!$B$1,IF(_calc!$B$10="","",CHOOSE(_calc!$B$2,DAY(_calc!$B$10)&" "&CHOOSE(MONTH(_calc!$B$10),"ม.ค.","ก.พ.","มี.ค.","เม.ย.","พ.ค.","มิ.ย.","ก.ค.","ส.ค.","ก.ย.","ต.ค.","พ.ย.","ธ.ค.")&" "&(YEAR(_calc!$B$10)+543),DAY(_calc!$B$10)&" "&CHOOSE(MONTH(_calc!$B$10),"Jan","Feb","Mar","Apr","May","Jun","Jul","Aug","Sep","Oct","Nov","Dec")&" "&YEAR(_calc!$B$10),DAY(_calc!$B$10)&" "&CHOOSE(MONTH(_calc!$B$10),"ม.ค.","ก.พ.","มี.ค.","เม.ย.","พ.ค.","มิ.ย.","ก.ค.","ส.ค.","ก.ย.","ต.ค.","พ.ย.","ธ.ค.")&" "&(YEAR(_calc!$B$10)+543))),IF(_calc!$B$10="","",CHOOSE(_calc!$B$2,DAY(_calc!$B$10)&" "&CHOOSE(MONTH(_calc!$B$10),"ม.ค.","ก.พ.","มี.ค.","เม.ย.","พ.ค.","มิ.ย.","ก.ค.","ส.ค.","ก.ย.","ต.ค.","พ.ย.","ธ.ค.")&" "&(YEAR(_calc!$B$10)+543),DAY(_calc!$B$10)&" "&CHOOSE(MONTH(_calc!$B$10),"Jan","Feb","Mar","Apr","May","Jun","Jul","Aug","Sep","Oct","Nov","Dec")&" "&YEAR(_calc!$B$10),DAY(_calc!$B$10)&" "&CHOOSE(MONTH(_calc!$B$10),"ม.ค.","ก.พ.","มี.ค.","เม.ย.","พ.ค.","มิ.ย.","ก.ค.","ส.ค.","ก.ย.","ต.ค.","พ.ย.","ธ.ค.")&" "&(YEAR(_calc!$B$10)+543))),IF($M$25="","-",$M$25),IF($M$25="","-",$M$25)) -> 29 ต.ค. 2569 | L10: 7. บันทึกเป็น PDF: ไฟล์ > ส่งออก / ดาวน์โหลด > PDF
B11: =IF($M$20="","",IFERROR(VLOOKUP($M$20,ลูกค้า!$A$3:$G$502,3,FALSE())&"","")) -> อ.เมือง จ.นครปฐม 73000 | G11: =CHOOSE(_calc!$B$2,"เงื่อนไขชำระ","Payment terms","เงื่อนไขชำระ / Payment terms") -> เงื่อนไขชำระ | I11: =IF($M$24="",ตั้งค่าร้าน!$B$20,$M$24) -> โอนชำระก่อนส่งสินค้า | L11: 8. เปลี่ยนโลโก้: คลิกขวาที่รูป > เปลี่ยนรูป
B12: =TRIM(IF(IF($M$20="","",IFERROR(VLOOKUP($M$20,ลูกค้า!$A$3:$G$502,4,FALSE())&"",""))<>"",CHOOSE(_calc!$B$2,"เลขผู้เสียภาษี","Tax ID","เลขผู้เสียภาษี / Tax ID")&" "&IF($M$20="","",IFERROR(VLOOKUP($M$20,ลูกค้า!$A$3:$G$502,4,FALSE())&"",""))&IF(IF($M$20="","",IFERROR(VLOOKUP($M$20,ลูกค้า!$A$3:$G$502,5,FALSE())&"",""))<>""," ("&IF($M$20="","",IFERROR(VLOOKUP($M$20,ลูกค้า!$A$3:$G$502,5,FALSE())&"",""))&")","")&" ","")&IF(IF($M$20="","",IFERROR(VLOOKUP($M$20,ลูกค้า!$A$3:$G$502,6,FALSE())&"",""))<>"",CHOOSE(_calc!$B$2,"โทร","Tel","โทร / Tel")&" "&IF($M$20="","",IFERROR(VLOOKUP($M$20,ลูกค้า!$A$3:$G$502,6,FALSE())&"",""))&" ","")&IF(IF($M$20="","",IFERROR(VLOOKUP($M$20,ลูกค้า!$A$3:$G$502,7,FALSE())&"",""))<>"",CHOOSE(_calc!$B$2,"ติดต่อ","Attn.","ติดต่อ / Attn.")&" "&IF($M$20="","",IFERROR(VLOOKUP($M$20,ลูกค้า!$A$3:$G$502,7,FALSE())&"","")),"")) -> เลขผู้เสียภาษี 0-1055-00000-00-0 (สำนักงานใหญ่) โทร 034-000-000 ติดต่อ คุณวิไล | G12: =CHOOSE(_calc!$B$2,"ผู้ติดต่อ","Contact","ผู้ติดต่อ / Contact") -> ผู้ติดต่อ | I12: =ตั้งค่าร้าน!$B$10 -> สมชาย ใจดี | L12: จดรายรับรายจ่ายร้านผ่าน LINE ฟรี? แอด @kasetidea (คลิก)
B14: =CHOOSE(_calc!$B$2,"ลำดับ","No.","ลำดับ"&CHAR(10)&"No.") -> ลำดับ | C14: =CHOOSE(_calc!$B$2,"รหัส","Code","รหัส"&CHAR(10)&"Code") -> รหัส | D14: =CHOOSE(_calc!$B$2,"รายการ","Description","รายการ"&CHAR(10)&"Description") -> รายการ | E14: =CHOOSE(_calc!$B$2,"จำนวน","Qty","จำนวน"&CHAR(10)&"Qty") -> จำนวน | F14: =CHOOSE(_calc!$B$2,"หน่วย","Unit","หน่วย"&CHAR(10)&"Unit") -> หน่วย | G14: =CHOOSE(_calc!$B$2,"ราคา/หน่วย","Unit price","ราคา/หน่วย"&CHAR(10)&"Unit price") -> ราคา/หน่วย | H14: =CHOOSE(_calc!$B$2,"ส่วนลด","Discount","ส่วนลด"&CHAR(10)&"Discount") -> ส่วนลด | I14: =CHOOSE(_calc!$B$2,"จำนวนเงิน","Amount","จำนวนเงิน"&CHAR(10)&"Amount") -> จำนวนเงิน | L14: ตั้งค่าเอกสารใบนี้ | N14: ช่องสีเหลือง กรอก / เลือกได้
B15: =IF(I15="","",COUNT(I$15:I15)) -> 1 | C15: P001 | D15: =IF($C15="","",IFERROR(VLOOKUP($C15,'สินค้า-บริการ'!$A$3:$D$302,2,FALSE()),"")) -> ต้นมอนสเตอร่า กระถาง 8 นิ้ว | E15: 10 | F15: =IF($C15="","",IFERROR(VLOOKUP($C15,'สินค้า-บริการ'!$A$3:$D$302,3,FALSE()),"")) -> ต้น | G15: =IF($C15="","",IFERROR(VLOOKUP($C15,'สินค้า-บริการ'!$A$3:$D$302,4,FALSE()),"")) -> 350 | I15: =IF(OR(E15="",G15=""),"",ROUND(N(E15)*N(G15)-N(H15),2)) -> 3500 | L15: ประเภทเอกสาร | M15: ใบเสนอราคา
B16: =IF(I16="","",COUNT(I$15:I16)) -> 2 | C16: P003 | D16: =IF($C16="","",IFERROR(VLOOKUP($C16,'สินค้า-บริการ'!$A$3:$D$302,2,FALSE()),"")) -> ดินปลูกผสมพร้อมใช้ 5 กก. | E16: 20 | F16: =IF($C16="","",IFERROR(VLOOKUP($C16,'สินค้า-บริการ'!$A$3:$D$302,3,FALSE()),"")) -> ถุง | G16: =IF($C16="","",IFERROR(VLOOKUP($C16,'สินค้า-บริการ'!$A$3:$D$302,4,FALSE()),"")) -> 45 | I16: =IF(OR(E16="",G16=""),"",ROUND(N(E16)*N(G16)-N(H16),2)) -> 900 | L16: ภาษาบนเอกสาร | M16: ไทย
B17: =IF(I17="","",COUNT(I$15:I17)) -> 3 | C17: S001 | D17: =IF($C17="","",IFERROR(VLOOKUP($C17,'สินค้า-บริการ'!$A$3:$D$302,2,FALSE()),"")) -> ค่าจัดสวนหน้าบ้าน (เหมา) | E17: 1 | F17: =IF($C17="","",IFERROR(VLOOKUP($C17,'สินค้า-บริการ'!$A$3:$D$302,3,FALSE()),"")) -> งาน | G17: =IF($C17="","",IFERROR(VLOOKUP($C17,'สินค้า-บริการ'!$A$3:$D$302,4,FALSE()),"")) -> 15000 | H17: 1000 | I17: =IF(OR(E17="",G17=""),"",ROUND(N(E17)*N(G17)-N(H17),2)) -> 14000 | L17: เลขที่เอกสาร (ลำดับ) | M17: 1 | N17: ใบถัดไปเปลี่ยนเป็น 2, 3, ...
B18: =IF(I18="","",COUNT(I$15:I18)) -> 4 | C18: S002 | D18: =IF($C18="","",IFERROR(VLOOKUP($C18,'สินค้า-บริการ'!$A$3:$D$302,2,FALSE()),"")) -> ค่าขนส่งและติดตั้ง | E18: 1 | F18: =IF($C18="","",IFERROR(VLOOKUP($C18,'สินค้า-บริการ'!$A$3:$D$302,3,FALSE()),"")) -> เที่ยว | G18: =IF($C18="","",IFERROR(VLOOKUP($C18,'สินค้า-บริการ'!$A$3:$D$302,4,FALSE()),"")) -> 500 | I18: =IF(OR(E18="",G18=""),"",ROUND(N(E18)*N(G18)-N(H18),2)) -> 500 | L18: วันที่ออกเอกสาร | N18: ว่างไว้ = วันนี้ (ใส่วันที่จริงเมื่อจะเก็บไฟล์)
B19: =IF(I19="","",COUNT(I$15:I19)) | D19: =IF($C19="","",IFERROR(VLOOKUP($C19,'สินค้า-บริการ'!$A$3:$D$302,2,FALSE()),"")) | F19: =IF($C19="","",IFERROR(VLOOKUP($C19,'สินค้า-บริการ'!$A$3:$D$302,3,FALSE()),"")) | G19: =IF($C19="","",IFERROR(VLOOKUP($C19,'สินค้า-บริการ'!$A$3:$D$302,4,FALSE()),"")) | I19: =IF(OR(E19="",G19=""),"",ROUND(N(E19)*N(G19)-N(H19),2)) | L19: ยืนราคา / เครดิต (วัน) | M19: 30 | N19: ใบแจ้งหนี้ = ครบกำหนดชำระ
B20: =IF(I20="","",COUNT(I$15:I20)) | D20: =IF($C20="","",IFERROR(VLOOKUP($C20,'สินค้า-บริการ'!$A$3:$D$302,2,FALSE()),"")) | F20: =IF($C20="","",IFERROR(VLOOKUP($C20,'สินค้า-บริการ'!$A$3:$D$302,3,FALSE()),"")) | G20: =IF($C20="","",IFERROR(VLOOKUP($C20,'สินค้า-บริการ'!$A$3:$D$302,4,FALSE()),"")) | I20: =IF(OR(E20="",G20=""),"",ROUND(N(E20)*N(G20)-N(H20),2)) | L20: ลูกค้า (เลือกหรือพิมพ์) | M20: บริษัท ตัวอย่างการเกษตร จำกัด | N20: ชื่อที่ไม่มีในแผ่นลูกค้า ให้พิมพ์ที่อยู่ในใบได้เลย
B21: =IF(I21="","",COUNT(I$15:I21)) | D21: =IF($C21="","",IFERROR(VLOOKUP($C21,'สินค้า-บริการ'!$A$3:$D$302,2,FALSE()),"")) | F21: =IF($C21="","",IFERROR(VLOOKUP($C21,'สินค้า-บริการ'!$A$3:$D$302,3,FALSE()),"")) | G21: =IF($C21="","",IFERROR(VLOOKUP($C21,'สินค้า-บริการ'!$A$3:$D$302,4,FALSE()),"")) | I21: =IF(OR(E21="",G21=""),"",ROUND(N(E21)*N(G21)-N(H21),2)) | L21: ภาษีมูลค่าเพิ่ม | M21: VAT 7% แยกนอกราคา
B22: =IF(I22="","",COUNT(I$15:I22)) | D22: =IF($C22="","",IFERROR(VLOOKUP($C22,'สินค้า-บริการ'!$A$3:$D$302,2,FALSE()),"")) | F22: =IF($C22="","",IFERROR(VLOOKUP($C22,'สินค้า-บริการ'!$A$3:$D$302,3,FALSE()),"")) | G22: =IF($C22="","",IFERROR(VLOOKUP($C22,'สินค้า-บริการ'!$A$3:$D$302,4,FALSE()),"")) | I22: =IF(OR(E22="",G22=""),"",ROUND(N(E22)*N(G22)-N(H22),2)) | L22: หัก ณ ที่จ่าย | M22: ไม่หัก
B23: =IF(I23="","",COUNT(I$15:I23)) | D23: =IF($C23="","",IFERROR(VLOOKUP($C23,'สินค้า-บริการ'!$A$3:$D$302,2,FALSE()),"")) | F23: =IF($C23="","",IFERROR(VLOOKUP($C23,'สินค้า-บริการ'!$A$3:$D$302,3,FALSE()),"")) | G23: =IF($C23="","",IFERROR(VLOOKUP($C23,'สินค้า-บริการ'!$A$3:$D$302,4,FALSE()),"")) | I23: =IF(OR(E23="",G23=""),"",ROUND(N(E23)*N(G23)-N(H23),2)) | L23: ส่วนลดท้ายบิล (บาท)
B24: =IF(I24="","",COUNT(I$15:I24)) | D24: =IF($C24="","",IFERROR(VLOOKUP($C24,'สินค้า-บริการ'!$A$3:$D$302,2,FALSE()),"")) | F24: =IF($C24="","",IFERROR(VLOOKUP($C24,'สินค้า-บริการ'!$A$3:$D$302,3,FALSE()),"")) | G24: =IF($C24="","",IFERROR(VLOOKUP($C24,'สินค้า-บริการ'!$A$3:$D$302,4,FALSE()),"")) | I24: =IF(OR(E24="",G24=""),"",ROUND(N(E24)*N(G24)-N(H24),2)) | L24: เงื่อนไขชำระ (เฉพาะใบนี้) | N24: ว่างไว้ = ใช้ค่าในแผ่นตั้งค่าร้าน
B25: =IF(I25="","",COUNT(I$15:I25)) | D25: =IF($C25="","",IFERROR(VLOOKUP($C25,'สินค้า-บริการ'!$A$3:$D$302,2,FALSE()),"")) | F25: =IF($C25="","",IFERROR(VLOOKUP($C25,'สินค้า-บริการ'!$A$3:$D$302,3,FALSE()),"")) | G25: =IF($C25="","",IFERROR(VLOOKUP($C25,'สินค้า-บริการ'!$A$3:$D$302,4,FALSE()),"")) | I25: =IF(OR(E25="",G25=""),"",ROUND(N(E25)*N(G25)-N(H25),2)) | L25: อ้างอิง / ชำระโดย | N25: ใช้กับใบส่งของ / ใบเสร็จ
B26: =IF(I26="","",COUNT(I$15:I26)) | D26: =IF($C26="","",IFERROR(VLOOKUP($C26,'สินค้า-บริการ'!$A$3:$D$302,2,FALSE()),"")) | F26: =IF($C26="","",IFERROR(VLOOKUP($C26,'สินค้า-บริการ'!$A$3:$D$302,3,FALSE()),"")) | G26: =IF($C26="","",IFERROR(VLOOKUP($C26,'สินค้า-บริการ'!$A$3:$D$302,4,FALSE()),"")) | I26: =IF(OR(E26="",G26=""),"",ROUND(N(E26)*N(G26)-N(H26),2)) | L26: หมายเหตุเพิ่ม (เฉพาะใบนี้)
B27: =IF(I27="","",COUNT(I$15:I27)) | D27: =IF($C27="","",IFERROR(VLOOKUP($C27,'สินค้า-บริการ'!$A$3:$D$302,2,FALSE()),"")) | F27: =IF($C27="","",IFERROR(VLOOKUP($C27,'สินค้า-บริการ'!$A$3:$D$302,3,FALSE()),"")) | G27: =IF($C27="","",IFERROR(VLOOKUP($C27,'สินค้า-บริการ'!$A$3:$D$302,4,FALSE()),"")) | I27: =IF(OR(E27="",G27=""),"",ROUND(N(E27)*N(G27)-N(H27),2))
B28: =IF(I28="","",COUNT(I$15:I28)) | D28: =IF($C28="","",IFERROR(VLOOKUP($C28,'สินค้า-บริการ'!$A$3:$D$302,2,FALSE()),"")) | F28: =IF($C28="","",IFERROR(VLOOKUP($C28,'สินค้า-บริการ'!$A$3:$D$302,3,FALSE()),"")) | G28: =IF($C28="","",IFERROR(VLOOKUP($C28,'สินค้า-บริการ'!$A$3:$D$302,4,FALSE()),"")) | I28: =IF(OR(E28="",G28=""),"",ROUND(N(E28)*N(G28)-N(H28),2)) | L28: บันทึกลงแผ่น "ทะเบียนเอกสาร": คัดลอก 5 ช่องล่างนี้ แล้ว "วางแบบค่า" (Paste Values)
B29: =IF(I29="","",COUNT(I$15:I29)) | D29: =IF($C29="","",IFERROR(VLOOKUP($C29,'สินค้า-บริการ'!$A$3:$D$302,2,FALSE()),"")) | F29: =IF($C29="","",IFERROR(VLOOKUP($C29,'สินค้า-บริการ'!$A$3:$D$302,3,FALSE()),"")) | G29: =IF($C29="","",IFERROR(VLOOKUP($C29,'สินค้า-บริการ'!$A$3:$D$302,4,FALSE()),"")) | I29: =IF(OR(E29="",G29=""),"",ROUND(N(E29)*N(G29)-N(H29),2)) | L29: เลขที่ | M29: วันที่ | N29: ประเภท | O29: ลูกค้า | P29: ยอดรวม (บาท)
L30: =_calc!$B$8 -> QT2569-0001 | M30: =_calc!$B$5 -> 46294 | N30: =$M$15 -> ใบเสนอราคา | O30: =IF($M$20="","",$M$20) -> บริษัท ตัวอย่างการเกษตร จำกัด | P30: =_calc!$B$18 -> 20223
B31: =CHOOSE(_calc!$B$2,"จำนวนเงินรวม (ตัวอักษร)","Total amount in words","จำนวนเงินรวม (ตัวอักษร) / Total amount in words") -> จำนวนเงินรวม (ตัวอักษร) | G31: =IFERROR(INDEX(_calc!$C$23:$C$30,MATCH(1,_calc!$E$23:$E$30,0)),"") -> รวมเป็นเงิน | I31: =IFERROR(INDEX(_calc!$D$23:$D$30,MATCH(1,_calc!$E$23:$E$30,0)),"") -> 18900 | K31: =IFERROR(INDEX(_calc!$A$23:$A$30,MATCH(1,_calc!$E$23:$E$30,0)),"") -> S
B32: ="("&IF(_calc!$B$2=2,_calc!$AA$40,_calc!$V$40)&")" -> (สองหมื่นสองร้อยยี่สิบสามบาทถ้วน) | G32: =IFERROR(INDEX(_calc!$C$23:$C$30,MATCH(2,_calc!$E$23:$E$30,0)),"") -> ภาษีมูลค่าเพิ่ม 7% | I32: =IFERROR(INDEX(_calc!$D$23:$D$30,MATCH(2,_calc!$E$23:$E$30,0)),"") -> 1323 | K32: =IFERROR(INDEX(_calc!$A$23:$A$30,MATCH(2,_calc!$E$23:$E$30,0)),"") -> V
B33: =IF(_calc!$B$2=3,"("&_calc!$AA$40&")","") | G33: =IFERROR(INDEX(_calc!$C$23:$C$30,MATCH(3,_calc!$E$23:$E$30,0)),"") -> จำนวนเงินรวมทั้งสิ้น | I33: =IFERROR(INDEX(_calc!$D$23:$D$30,MATCH(3,_calc!$E$23:$E$30,0)),"") -> 20223 | K33: =IFERROR(INDEX(_calc!$A$23:$A$30,MATCH(3,_calc!$E$23:$E$30,0)),"") -> G
B34: =CHOOSE(_calc!$B$2,"หมายเหตุ","Remarks","หมายเหตุ / Remarks") -> หมายเหตุ | G34: =IFERROR(INDEX(_calc!$C$23:$C$30,MATCH(4,_calc!$E$23:$E$30,0)),"") | I34: =IFERROR(INDEX(_calc!$D$23:$D$30,MATCH(4,_calc!$E$23:$E$30,0)),"") | K34: =IFERROR(INDEX(_calc!$A$23:$A$30,MATCH(4,_calc!$E$23:$E$30,0)),"")
B35: =ตั้งค่าร้าน!$B$21 -> ราคานี้รวมค่าขนส่งในพื้นที่แล้ว | G35: =IFERROR(INDEX(_calc!$C$23:$C$30,MATCH(5,_calc!$E$23:$E$30,0)),"") | I35: =IFERROR(INDEX(_calc!$D$23:$D$30,MATCH(5,_calc!$E$23:$E$30,0)),"") | K35: =IFERROR(INDEX(_calc!$A$23:$A$30,MATCH(5,_calc!$E$23:$E$30,0)),"")
B36: =IF($M$26="","",$M$26) | G36: =IFERROR(INDEX(_calc!$C$23:$C$30,MATCH(6,_calc!$E$23:$E$30,0)),"") | I36: =IFERROR(INDEX(_calc!$D$23:$D$30,MATCH(6,_calc!$E$23:$E$30,0)),"") | K36: =IFERROR(INDEX(_calc!$A$23:$A$30,MATCH(6,_calc!$E$23:$E$30,0)),"")
B37: =IF(ตั้งค่าร้าน!$B$14="","",CHOOSE(_calc!$B$2,"ชำระโดยโอนเข้าบัญชี","Please transfer to","ชำระโดยโอนเข้าบัญชี / Please transfer to")&" "&ตั้งค่าร้าน!$B$14&" "&CHOOSE(_calc!$B$2,"เลขที่","A/C","เลขที่ / A/C")&" "&ตั้งค่าร้าน!$B$15) -> ชำระโดยโอนเข้าบัญชี กสิกรไทย เลขที่ xxx-x-xxxxx-x | G37: =IFERROR(INDEX(_calc!$C$23:$C$30,MATCH(7,_calc!$E$23:$E$30,0)),"") | I37: =IFERROR(INDEX(_calc!$D$23:$D$30,MATCH(7,_calc!$E$23:$E$30,0)),"") | K37: =IFERROR(INDEX(_calc!$A$23:$A$30,MATCH(7,_calc!$E$23:$E$30,0)),"")
B38: =TRIM(IF(ตั้งค่าร้าน!$B$16="","",CHOOSE(_calc!$B$2,"ชื่อบัญชี","Account name","ชื่อบัญชี / Account name")&" "&ตั้งค่าร้าน!$B$16&" ")&IF(ตั้งค่าร้าน!$B$17="","",CHOOSE(_calc!$B$2,"พร้อมเพย์","PromptPay","พร้อมเพย์ / PromptPay")&" "&ตั้งค่าร้าน!$B$17)) -> ชื่อบัญชี ร้านตัวอย่างพรรณไม้ | G38: =IFERROR(INDEX(_calc!$C$23:$C$30,MATCH(8,_calc!$E$23:$E$30,0)),"") | I38: =IFERROR(INDEX(_calc!$D$23:$D$30,MATCH(8,_calc!$E$23:$E$30,0)),"") | K38: =IFERROR(INDEX(_calc!$A$23:$A$30,MATCH(8,_calc!$E$23:$E$30,0)),"")
F40: =CHOOSE(_calc!$B$1,CHOOSE(_calc!$B$2,"ยืนยันสั่งซื้อตามรายการข้างต้น","We accept this quotation","ยืนยันสั่งซื้อตามรายการข้างต้น / We accept this quotation"),"","","") -> ยืนยันสั่งซื้อตามรายการข้างต้น
B42: ....................................................... | F42: .......................................................
B43: ="( "&ตั้งค่าร้าน!$B$10&" )" -> ( สมชาย ใจดี ) | F43: ="( )" -> ( )
B44: =CHOOSE(_calc!$B$1,CHOOSE(_calc!$B$2,"ผู้เสนอราคา","Quoted by","ผู้เสนอราคา / Quoted by"),CHOOSE(_calc!$B$2,"ผู้ออกเอกสาร","Issued by","ผู้ออกเอกสาร / Issued by"),CHOOSE(_calc!$B$2,"ผู้ส่งสินค้า","Delivered by","ผู้ส่งสินค้า / Delivered by"),CHOOSE(_calc!$B$2,"ผู้รับเงิน","Collector","ผู้รับเงิน / Collector")) -> ผู้เสนอราคา | F44: =CHOOSE(_calc!$B$1,CHOOSE(_calc!$B$2,"ผู้อนุมัติสั่งซื้อ","Authorized by","ผู้อนุมัติสั่งซื้อ / Authorized by"),CHOOSE(_calc!$B$2,"ผู้รับเอกสาร","Received by","ผู้รับเอกสาร / Received by"),CHOOSE(_calc!$B$2,"ผู้รับสินค้า","Received by","ผู้รับสินค้า / Received by"),CHOOSE(_calc!$B$2,"ผู้จ่ายเงิน","Paid by","ผู้จ่ายเงิน / Paid by")) -> ผู้อนุมัติสั่งซื้อ
B45: =CHOOSE(_calc!$B$2,"วันที่","Date","วันที่ / Date")&" ......../......../........" -> วันที่ ......../......../........ | F45: =CHOOSE(_calc!$B$2,"วันที่","Date","วันที่ / Date")&" ......../......../........" -> วันที่ ......../......../........
...

Sheet ตั้งค่าร้าน
A1: ตั้งค่าร้าน — กรอกครั้งเดียว ข้อมูลจะขึ้นบนเอกสารทุกใบ
A2: ข้อมูลร้าน (หัวเอกสาร)
A3: ชื่อร้าน / บริษัท | B3: ร้านตัวอย่างพรรณไม้ | C3: แก้เป็นชื่อร้านของคุณ
A4: ที่อยู่ บรรทัด 1 | B4: 99/9 หมู่ 9 ต.ตัวอย่าง อ.เมือง
A5: ที่อยู่ บรรทัด 2 | B5: จ.นครปฐม 73000
A6: เลขประจำตัวผู้เสียภาษี | B6: 0-0000-00000-00-0 | C6: บุคคลธรรมดาใช้เลขบัตรประชาชน 13 หลัก หรือเว้นว่างไว้
A7: สาขา | B7: สำนักงานใหญ่ | C7: บุคคลธรรมดาเว้นว่างได้
A8: โทรศัพท์ | B8: 08x-xxx-xxxx
A9: อีเมล / LINE / เว็บไซต์ | B9: LINE: @ร้านตัวอย่าง
A10: ชื่อผู้ออกเอกสาร (เซ็นชื่อ) | B10: สมชาย ใจดี | C10: ขึ้นใต้ช่องลายเซ็นฝั่งร้าน
A11: ตำแหน่ง | B11: เจ้าของร้าน
A13: บัญชีรับเงิน (ขึ้นท้ายเอกสาร)
A14: ธนาคาร | B14: กสิกรไทย | C14: เว้นว่างถ้าไม่ต้องการแสดง
A15: เลขที่บัญชี | B15: xxx-x-xxxxx-x
A16: ชื่อบัญชี | B16: ร้านตัวอย่างพรรณไม้
A17: พร้อมเพย์ | C17: เบอร์โทรหรือเลขบัตรประชาชน (ไม่ใส่ก็ได้)
A19: ค่าเริ่มต้นของเอกสาร
A20: เงื่อนไขการชำระเงิน | B20: โอนชำระก่อนส่งสินค้า | C20: แก้เฉพาะใบได้ที่แผงตั้งค่าข้างใบเสนอราคา
A21: หมายเหตุท้ายเอกสาร | B21: ราคานี้รวมค่าขนส่งในพื้นที่แล้ว | C21: ขึ้นทุกใบ ลบได้
A22: อักษรนำเลขที่ ใบเสนอราคา | B22: QT
A23: อักษรนำเลขที่ ใบแจ้งหนี้ | B23: IV
A24: อักษรนำเลขที่ ใบส่งของ | B24: DO
A25: อักษรนำเลขที่ ใบเสร็จรับเงิน | B25: RE
A26: ปีในเลขที่เอกสาร | B26: พ.ศ. | C26: เช่น QT2569-0001 · เลือก ค.ศ. หรือไม่ใส่ปีได้
A27: เครดิตแบบฟอร์มท้ายเอกสาร | B27: แสดง | C27: ขอบคุณที่ช่วยบอกต่อ เลือก "ไม่แสดง" เพื่อซ่อน
A29: ต้องการจดรายรับรายจ่ายร้านง่าย ๆ ผ่าน LINE ฟรี? แอด @kasetidea (คลิก)

Sheet สินค้า-บริการ
A1: รายการสินค้า / บริการ — ใส่ครั้งเดียว แล้วเลือกรหัสในใบเสนอราคา ชื่อ หน่วย ราคาจะขึ้นเอง
A2: รหัส | B2: ชื่อสินค้า / บริการ | C2: หน่วย | D2: ราคาต่อหน่วย (บาท) | E2: หมายเหตุ
A3: P001 | B3: ต้นมอนสเตอร่า กระถาง 8 นิ้ว | C3: ต้น | D3: 350 | E3: ตัวอย่าง แก้หรือลบได้
A4: P002 | B4: ต้นลิ้นมังกร กระถาง 6 นิ้ว | C4: ต้น | D4: 120 | E4: ตัวอย่าง แก้หรือลบได้
A5: P003 | B5: ดินปลูกผสมพร้อมใช้ 5 กก. | C5: ถุง | D5: 45 | E5: ตัวอย่าง แก้หรือลบได้
A6: P004 | B6: ปุ๋ยละลายช้า 100 กรัม | C6: ถุง | D6: 89 | E6: ตัวอย่าง แก้หรือลบได้
A7: S001 | B7: ค่าจัดสวนหน้าบ้าน (เหมา) | C7: งาน | D7: 15000 | E7: ตัวอย่าง แก้หรือลบได้
A8: S002 | B8: ค่าขนส่งและติดตั้ง | C8: เที่ยว | D8: 500 | E8: ตัวอย่าง แก้หรือลบได้
A9: S003 | B9: ค่าดูแลสวนรายเดือน | C9: เดือน | D9: 2500 | E9: ตัวอย่าง แก้หรือลบได้

Sheet ลูกค้า
A1: รายชื่อลูกค้า — ใส่ครั้งเดียว แล้วเลือกชื่อในแผงตั้งค่าข้างใบเสนอราคา ที่อยู่จะขึ้นเอง
A2: ชื่อลูกค้า / บริษัท | B2: ที่อยู่ บรรทัด 1 | C2: ที่อยู่ บรรทัด 2 | D2: เลขผู้เสียภาษี | E2: สาขา | F2: โทรศัพท์ | G2: ผู้ติดต่อ
A3: บริษัท ตัวอย่างการเกษตร จำกัด | B3: 123 ถ.เพชรเกษม ต.สนามจันทร์ | C3: อ.เมือง จ.นครปฐม 73000 | D3: 0-1055-00000-00-0 | E3: สำนักงานใหญ่ | F3: 034-000-000 | G3: คุณวิไล
A4: คุณสมหญิง รักสวน | B4: 45/6 ซ.สุขใจ ถ.ประชาอุทิศ | C4: เขตทุ่งครุ กรุงเทพฯ 10140 | F4: 089-000-0000

Sheet ทะเบียนเอกสาร
A1: ทะเบียนเอกสาร — เก็บทุกใบไว้ที่เดียว ติดตามว่าลูกค้าตอบหรือยัง และเก็บเงินครบไหม
A2: ใบเสนอราคาทั้งหมด (ใบ) | B2: มูลค่าที่เสนอ (บาท) | C2: ลูกค้าอนุมัติ (ใบ) | D2: อัตราปิดการขาย | E2: รอลูกค้าตอบ (ใบ) | F2: ใบแจ้งหนี้ค้างรับ (บาท)
A3: =COUNTIF($C$6:$C$1005,"ใบเสนอราคา") -> 2 | B3: =SUMIF($C$6:$C$1005,"ใบเสนอราคา",$E$6:$E$1005) -> 24723 | C3: =COUNTIFS($C$6:$C$1005,"ใบเสนอราคา",$F$6:$F$1005,"อนุมัติ") -> 1 | D3: =IFERROR(COUNTIFS($C$6:$C$1005,"ใบเสนอราคา",$F$6:$F$1005,"อนุมัติ")/(COUNTIF($C$6:$C$1005,"ใบเสนอราคา")-COUNTIFS($C$6:$C$1005,"ใบเสนอราคา",$F$6:$F$1005,"รอตอบ")),0) -> 1 | E3: =COUNTIFS($C$6:$C$1005,"ใบเสนอราคา",$F$6:$F$1005,"รอตอบ") -> 1 | F3: =SUMIFS($E$6:$E$1005,$C$6:$C$1005,"ใบแจ้งหนี้",$F$6:$F$1005,"รอชำระ") -> 20223
A4: อัตราปิดการขาย = ใบที่อนุมัติ ÷ ใบที่ลูกค้าตอบแล้ว (ไม่นับที่รอตอบ)
A5: เลขที่ | B5: วันที่ | C5: ประเภท | D5: ลูกค้า | E5: ยอดรวม (บาท) | F5: สถานะ | G5: ติดตามอีกครั้ง | H5: หมายเหตุ
A6: QT2569-0001 | B6: 46266 | C6: ใบเสนอราคา | D6: บริษัท ตัวอย่างการเกษตร จำกัด | E6: 20223 | F6: อนุมัติ | H6: ตัวอย่าง ลบได้
A7: QT2569-0002 | B7: 46270 | C7: ใบเสนอราคา | D7: คุณสมหญิง รักสวน | E7: 4500 | F7: รอตอบ | G7: 46277 | H7: ตัวอย่าง ลบได้
A8: IV2569-0001 | B8: 46273 | C8: ใบแจ้งหนี้ | D8: บริษัท ตัวอย่างการเกษตร จำกัด | E8: 20223 | F8: รอชำระ | G8: 46303 | H8: ตัวอย่าง ลบได้

Sheet วิธีใช้
B2: ใบเสนอราคา Excel ฟรี จาก KASETIDEA — วิธีใช้
B3: ไฟล์เดียวออกได้ 4 แบบ: ใบเสนอราคา · ใบแจ้งหนี้ · ใบส่งของ · ใบเสร็จรับเงิน · ภาษาไทย / อังกฤษ / สองภาษา · เปิดได้ทั้ง Excel, Google Sheets และ LibreOffice
B4: เริ่มใช้ครั้งแรก (5 นาที)
B5: 1) แผ่น "ตั้งค่าร้าน" — ใส่ชื่อร้าน ที่อยู่ เลขผู้เสียภาษี เบอร์โทร บัญชีรับเงิน และชื่อคนเซ็น ข้อมูลจะขึ้นหัวและท้ายเอกสารทุกใบ
B6: 2) เปลี่ยนโลโก้ — ที่แผ่น "ใบเสนอราคา" คลิกขวาที่รูปโลโก้ > เปลี่ยนรูป (Change Picture) แล้วเลือกรูปโลโก้ร้าน ถ้าไม่มีโลโก้ให้คลิกรูปแล้วกด Delete
B7: 3) แผ่น "สินค้า-บริการ" — ใส่รหัส ชื่อ หน่วย และราคาของสินค้าที่ขายบ่อย (ได้ 300 รายการ)
B8: 4) แผ่น "ลูกค้า" — ใส่ชื่อ ที่อยู่ เลขผู้เสียภาษีของลูกค้าประจำ (ได้ 500 ราย) · ลบข้อมูลตัวอย่างได้เลย
B9: ออกใบเสนอราคาแต่ละใบ
B10: 1) ดูแผง "ตั้งค่าเอกสารใบนี้" ทางขวาของใบ (ส่วนนี้ไม่ถูกพิมพ์) เลือกประเภทเอกสาร ภาษา เลขที่ วันที่ ลูกค้า VAT และหัก ณ ที่จ่าย
B11: 2) ในตารางรายการ เลือกรหัสในช่อง "รหัส" ชื่อ หน่วย ราคาจะขึ้นเอง แล้วใส่ "จำนวน" · ถ้าเป็นรายการใหม่ที่ไม่มีรหัส พิมพ์ชื่อ หน่วย ราคาทับได้เลย
B12: 3) ส่วนลดเฉพาะบรรทัด ใส่ในช่อง "ส่วนลด" เป็นบาท · ส่วนลดท้ายบิล ใส่ในแผงตั้งค่า
B13: 4) ยอดรวม ภาษีมูลค่าเพิ่ม หัก ณ ที่จ่าย ยอดสุทธิ และจำนวนเงินตัวอักษร (บาทถ้วน) คำนวณให้อัตโนมัติ
... B29: ดาวน์โหลดเวอร์ชันล่าสุดและแบบฟอร์มฟรีอื่น ๆ: https://kasetidea.com/tools/quotation/

Sheet _calc
A1: doc | B1: =IFERROR(MATCH(ใบเสนอราคา!$M$15,{"ใบเสนอราคา","ใบแจ้งหนี้","ใบส่งของ","ใบเสร็จรับเงิน"},0),1) -> 1
A2: lang | B2: =IFERROR(MATCH(ใบเสนอราคา!$M$16,{"ไทย","English","ไทย + English"},0),1) -> 1 | AD2: One
A3: vat | B3: =IFERROR(MATCH(ใบเสนอราคา!$M$21,{"ไม่มี VAT","VAT 7% แยกนอกราคา","VAT 7% รวมในราคาแล้ว"},0),1) -> 2 | AD3: Two
A4: wht | B4: =IFERROR(VALUE(SUBSTITUTE(ใบเสนอราคา!$M$22,"%",""))/100,0) -> 0 | AD4: Three
A5: date | B5: =IF(ใบเสนอราคา!$M$18="",TODAY(),ใบเสนอราคา!$M$18) -> 46294 | AD5: Four
A6: year | B6: =IFERROR(CHOOSE(MATCH(ตั้งค่าร้าน!$B$26,{"พ.ศ.","ค.ศ.","ไม่ใส่ปี"},0),YEAR(B5)+543,YEAR(B5),""),YEAR(B5)+543) -> 2569 | AD6: Five
A7: prefix | B7: =CHOOSE(B1,ตั้งค่าร้าน!$B$22,ตั้งค่าร้าน!$B$23,ตั้งค่าร้าน!$B$24,ตั้งค่าร้าน!$B$25) -> QT | AD7: Six
A8: docno | B8: =B7&B6&IF(B7&B6="","","-")&TEXT(N(ใบเสนอราคา!$M$17),"0000") -> QT2569-0001 | AD8: Seven
AD9: Eight
A10: due | B10: =B5+N(ใบเสนอราคา!$M$19) -> 46324 | AD10: Nine
AD11: Ten
AD12: Eleven
A13: subtotal | B13: =SUM(ใบเสนอราคา!$I$15:$I$29) -> 18900 | AD13: Twelve
A14: discount | B14: =N(ใบเสนอราคา!$M$23) -> 0 | AD14: Thirteen
A15: after | B15: =B13-B14 -> 18900 | AD15: Fourteen
A16: vat | B16: =IF(B3=2,ROUND(B15*0.07,2),IF(B3=3,ROUND(B15*7/107,2),0)) -> 1323 | AD16: Fifteen
A17: base | B17: =IF(B3=3,B15-B16,B15) -> 18900 | AD17: Sixteen
A18: total | B18: =IF(B3=2,B15+B16,B15) -> 20223 | AD18: Seventeen
A19: wht amt | B19: =ROUND(B17*B4,2) -> 0 | AD19: Eighteen
A20: net | B20: =B18-B19 -> 20223 | AD20: Nineteen
AD21: Twenty
AD22: Twenty-One
A23: S | B23: =1 -> 1 | C23: =CHOOSE(_calc!$B$2,"รวมเป็นเงิน","Subtotal","รวมเป็นเงิน / Subtotal") -> รวมเป็นเงิน | D23: =B13 -> 18900 | E23: =IF(B23=1,SUM(B$23:B23),"") -> 1 | AD23: Twenty-Two
A24: D | B24: =IF(B14<>0,1,0) -> 0 | C24: =CHOOSE(_calc!$B$2,"ส่วนลด","Discount","ส่วนลด / Discount") -> ส่วนลด | D24: =B14 -> 0 | E24: =IF(B24=1,SUM(B$23:B24),"") | AD24: Twenty-Three
A25: A | B25: =IF(AND(B14<>0,B3<>3),1,0) -> 0 | C25: =CHOOSE(_calc!$B$2,"ยอดหลังหักส่วนลด","After discount","ยอดหลังหักส่วนลด / After discount") -> ยอดหลังหักส่วนลด | D25: =B15 -> 18900 | E25: =IF(B25=1,SUM(B$23:B25),"") | AD25: Twenty-Four
A26: P | B26: =IF(B3=3,1,0) -> 0 | C26: =CHOOSE(_calc!$B$2,"มูลค่าก่อนภาษี","Amount before VAT","มูลค่าก่อนภาษี / Amount before VAT") -> มูลค่าก่อนภาษี | D26: =B17 -> 18900 | E26: =IF(B26=1,SUM(B$23:B26),"") | AD26: Twenty-Five
A27: V | B27: =IF(B3>1,1,0) -> 1 | C27: =IF(B3=3,CHOOSE(_calc!$B$2,"VAT 7% (รวมในราคาแล้ว)","VAT 7% (included)","VAT 7% (รวมในราคาแล้ว) / VAT 7% (included)"),CHOOSE(_calc!$B$2,"ภาษีมูลค่าเพิ่ม 7%","VAT 7%","ภาษีมูลค่าเพิ่ม 7% / VAT 7%")) -> ภาษีมูลค่าเพิ่ม 7% | D27: =B16 -> 1323 | E27: =IF(B27=1,SUM(B$23:B27),"") -> 2 | AD27: Twenty-Six
A28: G | B28: =1 -> 1 | C28: =CHOOSE(_calc!$B$2,"จำนวนเงินรวมทั้งสิ้น","Grand Total","จำนวนเงินรวมทั้งสิ้น / Grand Total") -> จำนวนเงินรวมทั้งสิ้น | D28: =B18 -> 20223 | E28: =IF(B28=1,SUM(B$23:B28),"") -> 3 | AD28: Twenty-Seven
A29: W | B29: =IF(B4>0,1,0) -> 0 | C29: =CHOOSE(_calc!$B$2,"หัก ณ ที่จ่าย "&TEXT(B4*100,"0")&"%","Withholding tax "&TEXT(B4*100,"0")&"%","หัก ณ ที่จ่าย "&TEXT(B4*100,"0")&"%"&" / "&"Withholding tax "&TEXT(B4*100,"0")&"%") -> หัก ณ ที่จ่าย 0% | D29: =B19 -> 0 | E29: =IF(B29=1,SUM(B$23:B29),"") | AD29: Twenty-Eight
A30: N | B30: =IF(B4>0,1,0) -> 0 | C30: =CHOOSE(_calc!$B$2,"ยอดชำระสุทธิ","Net amount to pay","ยอดชำระสุทธิ / Net amount to pay") -> ยอดชำระสุทธิ | D30: =B20 -> 20223 | E30: =IF(B30=1,SUM(B$23:B30),"") | AD30: Twenty-Nine
AD31: Thirty
AD32: Thirty-One
AD33: Thirty-Two
AD34: Thirty-Three
AD35: Thirty-Four
AD36: Thirty-Five
AD37: Thirty-Six
AD38: Thirty-Seven
AD39: Thirty-Eight
B40: =ROUND(ABS(N(B18)),2) -> 20223 | C40: =INT(B40) -> 20223 | D40: =ROUND((B40-C40)*100,0) -> 0 | E40: =VALUE(MID(TEXT(C40,"000000000000"),1,1)) -> 0 | F40: =VALUE(MID(TEXT(C40,"000000000000"),2,1)) -> 0 | G40: =VALUE(MID(TEXT(C40,"000000000000"),3,1)) -> 0 | H40: =VALUE(MID(TEXT(C40,"000000000000"),4,1)) -> 0 | I40: =VALUE(MID(TEXT(C40,"000000000000"),5,1)) -> 0 | J40: =VALUE(MID(TEXT(C40,"000000000000"),6,1)) -> 0 | K40: =VALUE(MID(TEXT(C40,"000000000000"),7,1)) -> 0 | L40: =VALUE(MID(TEXT(C40,"000000000000"),8,1)) -> 2 | M40: =VALUE(MID(TEXT(C40,"000000000000"),9,1)) -> 0 | N40: =VALUE(MID(TEXT(C40,"000000000000"),10,1)) -> 2 | O40: =VALUE(MID(TEXT(C40,"000000000000"),11,1)) -> 2 | P40: =VALUE(MID(TEXT(C40,"000000000000"),12,1)) -> 3 | Q40: =INT(D40/10) -> 0 | R40: =MOD(D40,10) -> 0 | S40: =IF(E40>0,CHOOSE(E40+1,"","หนึ่ง","สอง","สาม","สี่","ห้า","หก","เจ็ด","แปด","เก้า")&"แสน","")&IF(F40>0,CHOOSE(F40+1,"","หนึ่ง","สอง","สาม","สี่","ห้า","หก","เจ็ด","แปด","เก้า")&"หมื่น","")&IF(G40>0,CHOOSE(G40+1,"","หนึ่ง","สอง","สาม","สี่","ห้า","หก","เจ็ด","แปด","เก้า")&"พัน","")&IF(H40>0,CHOOSE(H40+1,"","หนึ่ง","สอง","สาม","สี่","ห้า","หก","เจ็ด","แปด","เก้า")&"ร้อย","")&IF(I40=0,"",IF(I40=1,"สิบ",IF(I40=2,"ยี่สิบ",CHOOSE(I40+1,"","หนึ่ง","สอง","สาม","สี่","ห้า","หก","เจ็ด","แปด","เก้า")&"สิบ")))&IF(J40=0,"",IF(AND(J40=1,(E40+F40+G40+H40+I40)>0),"เอ็ด",CHOOSE(J40+1,"","หนึ่ง","สอง","สาม","สี่","ห้า","หก","เจ็ด","แปด","เก้า"))) | T40: =IF(K40>0,CHOOSE(K40+1,"","หนึ่ง","สอง","สาม","สี่","ห้า","หก","เจ็ด","แปด","เก้า")&"แสน","")&IF(L40>0,CHOOSE(L40+1,"","หนึ่ง","สอง","สาม","สี่","ห้า","หก","เจ็ด","แปด","เก้า")&"หมื่น","")&IF(M40>0,CHOOSE(M40+1,"","หนึ่ง","สอง","สาม","สี่","ห้า","หก","เจ็ด","แปด","เก้า")&"พัน","")&IF(N40>0,CHOOSE(N40+1,"","หนึ่ง","สอง","สาม","สี่","ห้า","หก","เจ็ด","แปด","เก้า")&"ร้อย","")&IF(O40=0,"",IF(O40=1,"สิบ",IF(O40=2,"ยี่สิบ",CHOOSE(O40+1,"","หนึ่ง","สอง","สาม","สี่","ห้า","หก","เจ็ด","แปด","เก้า")&"สิบ")))&IF(P40=0,"",IF(AND(P40=1,(E40+F40+G40+H40+I40+J40+K40+L40+M40+N40+O40)>0),"เอ็ด",CHOOSE(P40+1,"","หนึ่ง","สอง","สาม","สี่","ห้า","หก","เจ็ด","แปด","เก้า"))) -> สองหมื่นสองร้อยยี่สิบสาม | U40: =IF(Q40=0,"",IF(Q40=1,"สิบ",IF(Q40=2,"ยี่สิบ",CHOOSE(Q40+1,"","หนึ่ง","สอง","สาม","สี่","ห้า","หก","เจ็ด","แปด","เก้า")&"สิบ")))&IF(R40=0,"",IF(AND(R40=1,Q40>0),"เอ็ด",CHOOSE(R40+1,"","หนึ่ง","สอง","สาม","สี่","ห้า","หก","เจ็ด","แปด","เก้า"))) | V40: =IF(B40=0,"ศูนย์บาทถ้วน",IF(C40>0,IF(S40<>"",S40&"ล้าน","")&T40&"บาท","")&IF(D40=0,"ถ้วน",U40&"สตางค์")) -> สองหมื่นสองร้อยยี่สิบสามบาทถ้วน | W40: =MOD(INT(C40/1000000000),1000) -> 0 | X40: =MOD(INT(C40/1000000),1000) -> 0 | Y40: =MOD(INT(C40/1000),1000) -> 20 | Z40: =MOD(INT(C40/1),1000) -> 223 | AA40: =IF(B40=0,"Zero Baht Only",TRIM(IF(W40>0,INDEX(_calc!$AD$1:$AD$1000,W40+1)&" Billion ","")&IF(X40>0,INDEX(_calc!$AD$1:$AD$1000,X40+1)&" Million ","")&IF(Y40>0,INDEX(_calc!$AD$1:$AD$1000,Y40+1)&" Thousand ","")&INDEX(_calc!$AD$1:$AD$1000,Z40+1))&IF(C40>0," Baht","")&IF(D40>0,IF(C40>0," and ","")&INDEX(_calc!$AD$1:$AD$1000,D40+1)&" Satang"," Only")) -> Twenty Thousand Two Hundred Twenty-Three Baht Only | AD40: Thirty-Nine
...
